{"text_format":"3","workbook":"xlsx","n_sheets":3,"sheets":["Sheet1","技师学院专业筛查","专业筛查（存疑）"],"not_rendered":{"defined_names":1},"read":"whole","date_system":"1900"}

{"sheet":"Sheet1","index":0,"n_rows":15,"n_cols":13,"rows_kept":15,"merged":[[0,0,0,12],[1,0,2,0],[1,1,2,1],[1,2,2,2],[1,3,2,3],[1,4,2,4],[1,5,2,5],[1,6,1,11],[1,12,2,12],[12,0,12,12],[13,0,13,12],[14,0,14,12]]}
["乐亭县2020年事业单位公开招聘工作人员岗位信息表"]
["序号","主管\n部门","岗位\n名称","经费\n形式","拟招聘\n人数（人）","笔试\n专业\n类别","拟招聘岗位条件",{"$nulls":5},"备注"]
[{"$nulls":6},"学历\n底限","学位\n底限","年龄","户籍","专业或专业类别","其他"]
[1,"乐亭县教育局","幼儿园A","全额",26,"教育类","全日制\n普通类专科","不限","35周岁及以下","乐亭户籍（含生源地）或配偶为乐亭户籍","幼儿教育、学前教育及相关专业","限“高校毕业生”报考"]
[2,"乐亭县教育局","幼儿园B","全额",24,"教育类","全日制\n普通类专科","不限","35周岁及以下","乐亭户籍（含生源地）或配偶为乐亭户籍","幼儿教育、学前教育及相关专业"]
[3,"中共乐亭县委\n组织部","乡镇","全额",2,"综合类","全日制\n普通类专科","不限","40周岁及以下","不限","不限","限2019年安置地为乐亭县的大学生退役士兵报考"]
[4,"乐亭县卫健局","疾控中心A","全额",3,"医学类","全日制\n普通类专科","不限","35周岁及以下","乐亭户籍（含生源地）或配偶为乐亭户籍","公共卫生与预防医学类","限“高校毕业生”报考"]
[5,"乐亭县卫健局","疾控中心B","全额",2,"医学类","全日制\n普通类专科","不限","35周岁及以下","乐亭户籍（含生源地）或配偶为乐亭户籍","公共卫生与预防医学类"]
[6,"乐亭县卫健局","疾控中心C","全额",3,"医学类","全日制\n普通类专科","不限","35周岁及以下","乐亭户籍（含生源地）或配偶为乐亭户籍","医学检验、医学检验技术","限“高校毕业生”报考"]
[7,"乐亭县卫健局","疾控中心D","全额",2,"医学类","全日制\n普通类专科","不限","35周岁及以下","乐亭户籍（含生源地）或配偶为乐亭户籍","医学检验、医学检验技术"]
[8,"乐亭县卫健局","计生服务中心","差额",1,"医学类","全日制\n普通类专科","不限","35周岁及以下","乐亭户籍（含生源地）或配偶为乐亭户籍","医学检验、医学检验技术","需取得相应资格证书"]
[]
["    注：1、“高校毕业生”是指未落实工作单位的国家统一招生的高等院校普通类2018、2019、2020年毕业生（离校时其户口、档案、组织关系仍保留在原毕业学校，或保留在各级毕业生就业主管部门、毕业生就业指导服务中心、各级人才交流服务机构和各级公共就业服务机构）。"]
["    2、硕士研究生及以上学历人员报考时，不受户籍限制，年龄放宽到40周岁。"]
["    3、乐亭县公办学校人事代理、事业聘用、教师志愿者，报考幼儿园B岗时年龄放宽到40周岁，学历放宽至国家承认的大专及以上学历，取得幼儿教师资格证书的，报名时可不受所学专业限制。"]

{"sheet":"技师学院专业筛查","index":1,"n_rows":3,"n_cols":1,"rows_kept":3,"hidden":true}
["专业名称"]
["焊接加工"]
["电气自动化设备安装与维修"]

{"sheet":"专业筛查（存疑）","index":2,"n_rows":198,"n_cols":7,"rows_kept":198,"hidden":true}
["岗位名称","学历底限","专业名称（岗位信息表）","本科库筛查","研究生库\n（一级学科）筛查","研究生库\n（二级学科）筛查","研究生库\n专硕筛查"]
["岗位2",{"$f":"IFERROR(VLOOKUP(A2,#REF!,2,0),\"\")","v":""},"律师",{"$f":"IFERROR(VLOOKUP($C2,#REF!,4,0),\"\")&IFERROR(\"；\"&VLOOKUP(C2,#REF!,3,0),\"\")","v":""},{"$f":"IFERROR(VLOOKUP(C2,#REF!,3,0),\"\")","v":""},{"$f":"IFERROR(VLOOKUP(C2,#REF!,3,0),\"\")","v":""},{"$f":"IFERROR(VLOOKUP(C2,#REF!,2,0),\"\")","v":""}]
["岗位2",{"$f":"IFERROR(VLOOKUP(A3,#REF!,2,0),\"\")","v":""},"法律事务",{"$f":"IFERROR(VLOOKUP($C3,#REF!,4,0),\"\")&IFERROR(\"；\"&VLOOKUP(C3,#REF!,3,0),\"\")","v":""},{"$f":"IFERROR(VLOOKUP(C3,#REF!,3,0),\"\")","v":""},{"$f":"IFERROR(VLOOKUP(C3,#REF!,3,0),\"\")","v":""},{"$f":"IFERROR(VLOOKUP(C3,#REF!,2,0),\"\")","v":""}]
["岗位4",{"$f":"IFERROR(VLOOKUP(A4,#REF!,2,0),\"\")","v":""},"计算机网络",{"$f":"IFERROR(VLOOKUP($C4,#REF!,4,0),\"\")&IFERROR(\"；\"&VLOOKUP(C4,#REF!,3,0),\"\")","v":""},{"$f":"IFERROR(VLOOKUP(C4,#REF!,3,0),\"\")","v":""},{"$f":"IFERROR(VLOOKUP(C4,#REF!,3,0),\"\")","v":""},{"$f":"IFERROR(VLOOKUP(C4,#REF!,2,0),\"\")","v":""}]
["岗位4",{"$f":"IFERROR(VLOOKUP(A5,#REF!,2,0),\"\")","v":""},"计算机网络技术",{"$f":"IFERROR(VLOOKUP($C5,#REF!,4,0),\"\")&IFERROR(\"；\"&VLOOKUP(C5,#REF!,3,0),\"\")","v":""},{"$f":"IFERROR(VLOOKUP(C5,#REF!,3,0),\"\")","v":""},{"$f":"IFERROR(VLOOKUP(C5,#REF!,3,0),\"\")","v":""},{"$f":"IFERROR(VLOOKUP(C5,#REF!,2,0),\"\")","v":""}]
["岗位4",{"$f":"IFERROR(VLOOKUP(A6,#REF!,2,0),\"\")","v":""},"计算机网络工程",{"$f":"IFERROR(VLOOKUP($C6,#REF!,4,0),\"\")&IFERROR(\"；\"&VLOOKUP(C6,#REF!,3,0),\"\")","v":""},{"$f":"IFERROR(VLOOKUP(C6,#REF!,3,0),\"\")","v":""},{"$f":"IFERROR(VLOOKUP(C6,#REF!,3,0),\"\")","v":""},{"$f":"IFERROR(VLOOKUP(C6,#REF!,2,0),\"\")","v":""}]
["岗位4",{"$f":"IFERROR(VLOOKUP(A7,#REF!,2,0),\"\")","v":""},"计算机网络技术工程",{"$f":"IFERROR(VLOOKUP($C7,#REF!,4,0),\"\")&IFERROR(\"；\"&VLOOKUP(C7,#REF!,3,0),\"\")","v":""},{"$f":"IFERROR(VLOOKUP(C7,#REF!,3,0),\"\")","v":""},{"$f":"IFERROR(VLOOKUP(C7,#REF!,3,0),\"\")","v":""},{"$f":"IFERROR(VLOOKUP(C7,#REF!,2,0),\"\")","v":""}]
["岗位5",{"$f":"IFERROR(VLOOKUP(A8,#REF!,2,0),\"\")","v":""},"财务会计",{"$f":"IFERROR(VLOOKUP($C8,#REF!,4,0),\"\")&IFERROR(\"；\"&VLOOKUP(C8,#REF!,3,0),\"\")","v":""},{"$f":"IFERROR(VLOOKUP(C8,#REF!,3,0),\"\")","v":""},{"$f":"IFERROR(VLOOKUP(C8,#REF!,3,0),\"\")","v":""},{"$f":"IFERROR(VLOOKUP(C8,#REF!,2,0),\"\")","v":""}]
["岗位5",{"$f":"IFERROR(VLOOKUP(A9,#REF!,2,0),\"\")","v":""},"财务信息管理",{"$f":"IFERROR(VLOOKUP($C9,#REF!,4,0),\"\")&IFERROR(\"；\"&VLOOKUP(C9,#REF!,3,0),\"\")","v":""},{"$f":"IFERROR(VLOOKUP(C9,#REF!,3,0),\"\")","v":""},{"$f":"IFERROR(VLOOKUP(C9,#REF!,3,0),\"\")","v":""},{"$f":"IFERROR(VLOOKUP(C9,#REF!,2,0),\"\")","v":""}]
["岗位8",{"$f":"IFERROR(VLOOKUP(A10,#REF!,2,0),\"\")","v":""},"针灸学",{"$f":"IFERROR(VLOOKUP($C10,#REF!,4,0),\"\")&IFERROR(\"；\"&VLOOKUP(C10,#REF!,3,0),\"\")","v":""},{"$f":"IFERROR(VLOOKUP(C10,#REF!,3,0),\"\")","v":""},{"$f":"IFERROR(VLOOKUP(C10,#REF!,3,0),\"\")","v":""},{"$f":"IFERROR(VLOOKUP(C10,#REF!,2,0),\"\")","v":""}]
["岗位9",{"$f":"IFERROR(VLOOKUP(A11,#REF!,2,0),\"\")","v":""},"公共管理类",{"$f":"IFERROR(VLOOKUP($C11,#REF!,4,0),\"\")&IFERROR(\"；\"&VLOOKUP(C11,#REF!,3,0),\"\")","v":""},{"$f":"IFERROR(VLOOKUP(C11,#REF!,3,0),\"\")","v":""},{"$f":"IFERROR(VLOOKUP(C11,#REF!,3,0),\"\")","v":""},{"$f":"IFERROR(VLOOKUP(C11,#REF!,2,0),\"\")","v":""}]
["岗位11",{"$f":"IFERROR(VLOOKUP(A12,#REF!,2,0),\"\")","v":""},"化工工程与技术类",{"$f":"IFERROR(VLOOKUP($C12,#REF!,4,0),\"\")&IFERROR(\"；\"&VLOOKUP(C12,#REF!,3,0),\"\")","v":""},{"$f":"IFERROR(VLOOKUP(C12,#REF!,3,0),\"\")","v":""},{"$f":"IFERROR(VLOOKUP(C12,#REF!,3,0),\"\")","v":""},{"$f":"IFERROR(VLOOKUP(C12,#REF!,2,0),\"\")","v":""}]
["岗位12",{"$f":"IFERROR(VLOOKUP(A13,#REF!,2,0),\"\")","v":""},"自动化或管理类",{"$f":"IFERROR(VLOOKUP($C13,#REF!,4,0),\"\")&IFERROR(\"；\"&VLOOKUP(C13,#REF!,3,0),\"\")","v":""}]
["岗位13",{"$f":"IFERROR(VLOOKUP(A14,#REF!,2,0),\"\")","v":""},"自动化或管理类",{"$f":"IFERROR(VLOOKUP($C14,#REF!,4,0),\"\")&IFERROR(\"；\"&VLOOKUP(C14,#REF!,3,0),\"\")","v":""}]
["岗位60",{"$f":"IFERROR(VLOOKUP(A15,#REF!,2,0),\"\")","v":""},"哲学",{"$f":"IFERROR(VLOOKUP($C15,#REF!,4,0),\"\")&IFERROR(\"；\"&VLOOKUP(C15,#REF!,3,0),\"\")","v":""},{"$f":"IFERROR(VLOOKUP(C15,#REF!,3,0),\"\")","v":""},{"$f":"IFERROR(VLOOKUP(C15,#REF!,3,0),\"\")","v":""},{"$f":"IFERROR(VLOOKUP(C15,#REF!,2,0),\"\")","v":""}]
["岗位60",{"$f":"IFERROR(VLOOKUP(A16,#REF!,2,0),\"\")","v":""},"政治与经济学",{"$f":"IFERROR(VLOOKUP($C16,#REF!,4,0),\"\")&IFERROR(\"；\"&VLOOKUP(C16,#REF!,3,0),\"\")","v":""},{"$f":"IFERROR(VLOOKUP(C16,#REF!,3,0),\"\")","v":""},{"$f":"IFERROR(VLOOKUP(C16,#REF!,3,0),\"\")","v":""},{"$f":"IFERROR(VLOOKUP(C16,#REF!,2,0),\"\")","v":""}]
["岗位60",{"$f":"IFERROR(VLOOKUP(A17,#REF!,2,0),\"\")","v":""},"政治学",{"$f":"IFERROR(VLOOKUP($C17,#REF!,4,0),\"\")&IFERROR(\"；\"&VLOOKUP(C17,#REF!,3,0),\"\")","v":""},{"$f":"IFERROR(VLOOKUP(C17,#REF!,3,0),\"\")","v":""},{"$f":"IFERROR(VLOOKUP(C17,#REF!,3,0),\"\")","v":""},{"$f":"IFERROR(VLOOKUP(C17,#REF!,2,0),\"\")","v":""}]
["岗位61",{"$f":"IFERROR(VLOOKUP(A18,#REF!,2,0),\"\")","v":""},"社会学（公共事业管理）",{"$f":"IFERROR(VLOOKUP($C18,#REF!,4,0),\"\")&IFERROR(\"；\"&VLOOKUP(C18,#REF!,3,0),\"\")","v":""},{"$f":"IFERROR(VLOOKUP(C18,#REF!,3,0),\"\")","v":""},{"$f":"IFERROR(VLOOKUP(C18,#REF!,3,0),\"\")","v":""},{"$f":"IFERROR(VLOOKUP(C18,#REF!,2,0),\"\")","v":""}]
["岗位61",{"$f":"IFERROR(VLOOKUP(A19,#REF!,2,0),\"\")","v":""},"教育行政学",{"$f":"IFERROR(VLOOKUP($C19,#REF!,4,0),\"\")&IFERROR(\"；\"&VLOOKUP(C19,#REF!,3,0),\"\")","v":""},{"$f":"IFERROR(VLOOKUP(C19,#REF!,3,0),\"\")","v":""},{"$f":"IFERROR(VLOOKUP(C19,#REF!,3,0),\"\")","v":""},{"$f":"IFERROR(VLOOKUP(C19,#REF!,2,0),\"\")","v":""}]
["岗位62",{"$f":"IFERROR(VLOOKUP(A20,#REF!,2,0),\"\")","v":""},"英语（翻译方向）",{"$f":"IFERROR(VLOOKUP($C20,#REF!,4,0),\"\")&IFERROR(\"；\"&VLOOKUP(C20,#REF!,3,0),\"\")","v":""},{"$f":"IFERROR(VLOOKUP(C20,#REF!,3,0),\"\")","v":""},{"$f":"IFERROR(VLOOKUP(C20,#REF!,3,0),\"\")","v":""},{"$f":"IFERROR(VLOOKUP(C20,#REF!,2,0),\"\")","v":""}]
["岗位62",{"$f":"IFERROR(VLOOKUP(A21,#REF!,2,0),\"\")","v":""},"英语（教育方向）",{"$f":"IFERROR(VLOOKUP($C21,#REF!,4,0),\"\")&IFERROR(\"；\"&VLOOKUP(C21,#REF!,3,0),\"\")","v":""},{"$f":"IFERROR(VLOOKUP(C21,#REF!,3,0),\"\")","v":""},{"$f":"IFERROR(VLOOKUP(C21,#REF!,3,0),\"\")","v":""},{"$f":"IFERROR(VLOOKUP(C21,#REF!,2,0),\"\")","v":""}]
["岗位63",{"$f":"IFERROR(VLOOKUP(A22,#REF!,2,0),\"\")","v":""},"系统科学与工程",{"$f":"IFERROR(VLOOKUP($C22,#REF!,4,0),\"\")&IFERROR(\"；\"&VLOOKUP(C22,#REF!,3,0),\"\")","v":""},{"$f":"IFERROR(VLOOKUP(C22,#REF!,3,0),\"\")","v":""},{"$f":"IFERROR(VLOOKUP(C22,#REF!,3,0),\"\")","v":""},{"$f":"IFERROR(VLOOKUP(C22,#REF!,2,0),\"\")","v":""}]
["岗位64",{"$f":"IFERROR(VLOOKUP(A23,#REF!,2,0),\"\")","v":""},"汉语言文学(新闻）",null,{"$f":"IFERROR(VLOOKUP(C23,#REF!,3,0),\"\")","v":""},{"$f":"IFERROR(VLOOKUP(C23,#REF!,3,0),\"\")","v":""},{"$f":"IFERROR(VLOOKUP(C23,#REF!,2,0),\"\")","v":""}]
["岗位64",{"$f":"IFERROR(VLOOKUP(A24,#REF!,2,0),\"\")","v":""},"汉语言文学（高级文秘）",{"$f":"IFERROR(VLOOKUP($C24,#REF!,4,0),\"\")&IFERROR(\"；\"&VLOOKUP(C24,#REF!,3,0),\"\")","v":""},{"$f":"IFERROR(VLOOKUP(C24,#REF!,3,0),\"\")","v":""},{"$f":"IFERROR(VLOOKUP(C24,#REF!,3,0),\"\")","v":""},{"$f":"IFERROR(VLOOKUP(C24,#REF!,2,0),\"\")","v":""}]
["岗位64",{"$f":"IFERROR(VLOOKUP(A25,#REF!,2,0),\"\")","v":""},"汉语言文学（编辑）",{"$f":"IFERROR(VLOOKUP($C25,#REF!,4,0),\"\")&IFERROR(\"；\"&VLOOKUP(C25,#REF!,3,0),\"\")","v":""},{"$f":"IFERROR(VLOOKUP(C25,#REF!,3,0),\"\")","v":""},{"$f":"IFERROR(VLOOKUP(C25,#REF!,3,0),\"\")","v":""},{"$f":"IFERROR(VLOOKUP(C25,#REF!,2,0),\"\")","v":""}]
["岗位65",{"$f":"IFERROR(VLOOKUP(A26,#REF!,2,0),\"\")","v":""},"学前教育",{"$f":"IFERROR(VLOOKUP($C26,#REF!,4,0),\"\")&IFERROR(\"；\"&VLOOKUP(C26,#REF!,3,0),\"\")","v":""},{"$f":"IFERROR(VLOOKUP(C26,#REF!,3,0),\"\")","v":""},{"$f":"IFERROR(VLOOKUP(C26,#REF!,3,0),\"\")","v":""},{"$f":"IFERROR(VLOOKUP(C26,#REF!,2,0),\"\")","v":""}]
["岗位66",{"$f":"IFERROR(VLOOKUP(A27,#REF!,2,0),\"\")","v":""},"学前教育",{"$f":"IFERROR(VLOOKUP($C27,#REF!,4,0),\"\")&IFERROR(\"；\"&VLOOKUP(C27,#REF!,3,0),\"\")","v":""},{"$f":"IFERROR(VLOOKUP(C27,#REF!,3,0),\"\")","v":""},{"$f":"IFERROR(VLOOKUP(C27,#REF!,3,0),\"\")","v":""},{"$f":"IFERROR(VLOOKUP(C27,#REF!,2,0),\"\")","v":""}]
["岗位67",{"$f":"IFERROR(VLOOKUP(A28,#REF!,2,0),\"\")","v":""},"儿童发展教育心理学",{"$f":"IFERROR(VLOOKUP($C28,#REF!,4,0),\"\")&IFERROR(\"；\"&VLOOKUP(C28,#REF!,3,0),\"\")","v":""},{"$f":"IFERROR(VLOOKUP(C28,#REF!,3,0),\"\")","v":""},{"$f":"IFERROR(VLOOKUP(C28,#REF!,3,0),\"\")","v":""},{"$f":"IFERROR(VLOOKUP(C28,#REF!,2,0),\"\")","v":""}]
["岗位70",{"$f":"IFERROR(VLOOKUP(A29,#REF!,2,0),\"\")","v":""},"美术教育",{"$f":"IFERROR(VLOOKUP($C29,#REF!,4,0),\"\")&IFERROR(\"；\"&VLOOKUP(C29,#REF!,3,0),\"\")","v":""},{"$f":"IFERROR(VLOOKUP(C29,#REF!,3,0),\"\")","v":""},{"$f":"IFERROR(VLOOKUP(C29,#REF!,3,0),\"\")","v":""},{"$f":"IFERROR(VLOOKUP(C29,#REF!,2,0),\"\")","v":""}]
["岗位71",{"$f":"IFERROR(VLOOKUP(A30,#REF!,2,0),\"\")","v":""},"会计",{"$f":"IFERROR(VLOOKUP($C30,#REF!,4,0),\"\")&IFERROR(\"；\"&VLOOKUP(C30,#REF!,3,0),\"\")","v":""},{"$f":"IFERROR(VLOOKUP(C30,#REF!,3,0),\"\")","v":""},{"$f":"IFERROR(VLOOKUP(C30,#REF!,3,0),\"\")","v":""},{"$f":"IFERROR(VLOOKUP(C30,#REF!,2,0),\"\")","v":""}]
["岗位74",{"$f":"IFERROR(VLOOKUP(A31,#REF!,2,0),\"\")","v":""},"会计",{"$f":"IFERROR(VLOOKUP($C31,#REF!,4,0),\"\")&IFERROR(\"；\"&VLOOKUP(C31,#REF!,3,0),\"\")","v":""},{"$f":"IFERROR(VLOOKUP(C31,#REF!,3,0),\"\")","v":""},{"$f":"IFERROR(VLOOKUP(C31,#REF!,3,0),\"\")","v":""},{"$f":"IFERROR(VLOOKUP(C31,#REF!,2,0),\"\")","v":""}]
["岗位84",{"$f":"IFERROR(VLOOKUP(A32,#REF!,2,0),\"\")","v":""},"会计",{"$f":"IFERROR(VLOOKUP($C32,#REF!,4,0),\"\")&IFERROR(\"；\"&VLOOKUP(C32,#REF!,3,0),\"\")","v":""},{"$f":"IFERROR(VLOOKUP(C32,#REF!,3,0),\"\")","v":""},{"$f":"IFERROR(VLOOKUP(C32,#REF!,3,0),\"\")","v":""},{"$f":"IFERROR(VLOOKUP(C32,#REF!,2,0),\"\")","v":""}]
["岗位94",{"$f":"IFERROR(VLOOKUP(A33,#REF!,2,0),\"\")","v":""},"医学检验",{"$f":"IFERROR(VLOOKUP($C33,#REF!,4,0),\"\")&IFERROR(\"；\"&VLOOKUP(C33,#REF!,3,0),\"\")","v":""},{"$f":"IFERROR(VLOOKUP(C33,#REF!,3,0),\"\")","v":""},{"$f":"IFERROR(VLOOKUP(C33,#REF!,3,0),\"\")","v":""},{"$f":"IFERROR(VLOOKUP(C33,#REF!,2,0),\"\")","v":""}]
["岗位120",{"$f":"IFERROR(VLOOKUP(A34,#REF!,2,0),\"\")","v":""},"高级护理",{"$f":"IFERROR(VLOOKUP($C34,#REF!,4,0),\"\")&IFERROR(\"；\"&VLOOKUP(C34,#REF!,3,0),\"\")","v":""},{"$f":"IFERROR(VLOOKUP(C34,#REF!,3,0),\"\")","v":""},{"$f":"IFERROR(VLOOKUP(C34,#REF!,3,0),\"\")","v":""},{"$f":"IFERROR(VLOOKUP(C34,#REF!,2,0),\"\")","v":""}]
["岗位121",{"$f":"IFERROR(VLOOKUP(A35,#REF!,2,0),\"\")","v":""},"高级护理",{"$f":"IFERROR(VLOOKUP($C35,#REF!,4,0),\"\")&IFERROR(\"；\"&VLOOKUP(C35,#REF!,3,0),\"\")","v":""},{"$f":"IFERROR(VLOOKUP(C35,#REF!,3,0),\"\")","v":""},{"$f":"IFERROR(VLOOKUP(C35,#REF!,3,0),\"\")","v":""},{"$f":"IFERROR(VLOOKUP(C35,#REF!,2,0),\"\")","v":""}]
["岗位129",{"$f":"IFERROR(VLOOKUP(A36,#REF!,2,0),\"\")","v":""},"机械设计制造及自动化",{"$f":"IFERROR(VLOOKUP($C36,#REF!,4,0),\"\")&IFERROR(\"；\"&VLOOKUP(C36,#REF!,3,0),\"\")","v":""},{"$f":"IFERROR(VLOOKUP(C36,#REF!,3,0),\"\")","v":""},{"$f":"IFERROR(VLOOKUP(C36,#REF!,3,0),\"\")","v":""},{"$f":"IFERROR(VLOOKUP(C36,#REF!,2,0),\"\")","v":""}]
["岗位145",{"$f":"IFERROR(VLOOKUP(A37,#REF!,2,0),\"\")","v":""},"电气工程",{"$f":"IFERROR(VLOOKUP($C37,#REF!,4,0),\"\")&IFERROR(\"；\"&VLOOKUP(C37,#REF!,3,0),\"\")","v":""},{"$f":"IFERROR(VLOOKUP(C37,#REF!,3,0),\"\")","v":""},{"$f":"IFERROR(VLOOKUP(C37,#REF!,3,0),\"\")","v":""},{"$f":"IFERROR(VLOOKUP(C37,#REF!,2,0),\"\")","v":""}]
["岗位146",{"$f":"IFERROR(VLOOKUP(A38,#REF!,2,0),\"\")","v":""},"车辆工程相关专业",{"$f":"IFERROR(VLOOKUP($C38,#REF!,4,0),\"\")&IFERROR(\"；\"&VLOOKUP(C38,#REF!,3,0),\"\")","v":""},{"$f":"IFERROR(VLOOKUP(C38,#REF!,3,0),\"\")","v":""},{"$f":"IFERROR(VLOOKUP(C38,#REF!,3,0),\"\")","v":""},{"$f":"IFERROR(VLOOKUP(C38,#REF!,2,0),\"\")","v":""}]
["岗位147",{"$f":"IFERROR(VLOOKUP(A39,#REF!,2,0),\"\")","v":""},"机械制造及自动化\n",{"$f":"IFERROR(VLOOKUP($C39,#REF!,4,0),\"\")&IFERROR(\"；\"&VLOOKUP(C39,#REF!,3,0),\"\")","v":""},{"$f":"IFERROR(VLOOKUP(C39,#REF!,3,0),\"\")","v":""},{"$f":"IFERROR(VLOOKUP(C39,#REF!,3,0),\"\")","v":""},{"$f":"IFERROR(VLOOKUP(C39,#REF!,2,0),\"\")","v":""}]
["岗位147",{"$f":"IFERROR(VLOOKUP(A40,#REF!,2,0),\"\")","v":""},"高级制造技术\n",{"$f":"IFERROR(VLOOKUP($C40,#REF!,4,0),\"\")&IFERROR(\"；\"&VLOOKUP(C40,#REF!,3,0),\"\")","v":""},{"$f":"IFERROR(VLOOKUP(C40,#REF!,3,0),\"\")","v":""},{"$f":"IFERROR(VLOOKUP(C40,#REF!,3,0),\"\")","v":""},{"$f":"IFERROR(VLOOKUP(C40,#REF!,2,0),\"\")","v":""}]
["岗位147",{"$f":"IFERROR(VLOOKUP(A41,#REF!,2,0),\"\")","v":""},"机械工程",{"$f":"IFERROR(VLOOKUP($C41,#REF!,4,0),\"\")&IFERROR(\"；\"&VLOOKUP(C41,#REF!,3,0),\"\")","v":""},{"$f":"IFERROR(VLOOKUP(C41,#REF!,3,0),\"\")","v":""},{"$f":"IFERROR(VLOOKUP(C41,#REF!,3,0),\"\")","v":""},{"$f":"IFERROR(VLOOKUP(C41,#REF!,2,0),\"\")","v":""}]
["岗位148",{"$f":"IFERROR(VLOOKUP(A42,#REF!,2,0),\"\")","v":""},"集成电路工程\n",{"$f":"IFERROR(VLOOKUP($C42,#REF!,4,0),\"\")&IFERROR(\"；\"&VLOOKUP(C42,#REF!,3,0),\"\")","v":""},{"$f":"IFERROR(VLOOKUP(C42,#REF!,3,0),\"\")","v":""},{"$f":"IFERROR(VLOOKUP(C42,#REF!,3,0),\"\")","v":""},{"$f":"IFERROR(VLOOKUP(C42,#REF!,2,0),\"\")","v":""}]
["岗位148",{"$f":"IFERROR(VLOOKUP(A43,#REF!,2,0),\"\")","v":""},"控制科学与工程",{"$f":"IFERROR(VLOOKUP($C43,#REF!,4,0),\"\")&IFERROR(\"；\"&VLOOKUP(C43,#REF!,3,0),\"\")","v":""},{"$f":"IFERROR(VLOOKUP(C43,#REF!,3,0),\"\")","v":""},{"$f":"IFERROR(VLOOKUP(C43,#REF!,3,0),\"\")","v":""},{"$f":"IFERROR(VLOOKUP(C43,#REF!,2,0),\"\")","v":""}]
["岗位149",{"$f":"IFERROR(VLOOKUP(A44,#REF!,2,0),\"\")","v":""},"设计艺术学相关专业",{"$f":"IFERROR(VLOOKUP($C44,#REF!,4,0),\"\")&IFERROR(\"；\"&VLOOKUP(C44,#REF!,3,0),\"\")","v":""},{"$f":"IFERROR(VLOOKUP(C44,#REF!,3,0),\"\")","v":""},{"$f":"IFERROR(VLOOKUP(C44,#REF!,3,0),\"\")","v":""},{"$f":"IFERROR(VLOOKUP(C44,#REF!,2,0),\"\")","v":""}]
["岗位150",{"$f":"IFERROR(VLOOKUP(A45,#REF!,2,0),\"\")","v":""},"思想政治教育相关专业",{"$f":"IFERROR(VLOOKUP($C45,#REF!,4,0),\"\")&IFERROR(\"；\"&VLOOKUP(C45,#REF!,3,0),\"\")","v":""},{"$f":"IFERROR(VLOOKUP(C45,#REF!,3,0),\"\")","v":""},{"$f":"IFERROR(VLOOKUP(C45,#REF!,3,0),\"\")","v":""},{"$f":"IFERROR(VLOOKUP(C45,#REF!,2,0),\"\")","v":""}]
["岗位150",{"$f":"IFERROR(VLOOKUP(A46,#REF!,2,0),\"\")","v":""},"马克思主义理论",{"$f":"IFERROR(VLOOKUP($C46,#REF!,4,0),\"\")&IFERROR(\"；\"&VLOOKUP(C46,#REF!,3,0),\"\")","v":""},{"$f":"IFERROR(VLOOKUP(C46,#REF!,3,0),\"\")","v":""},{"$f":"IFERROR(VLOOKUP(C46,#REF!,3,0),\"\")","v":""},{"$f":"IFERROR(VLOOKUP(C46,#REF!,2,0),\"\")","v":""}]
["岗位151",{"$f":"IFERROR(VLOOKUP(A47,#REF!,2,0),\"\")","v":""},"投资与金融管理",{"$f":"IFERROR(VLOOKUP($C47,#REF!,4,0),\"\")&IFERROR(\"；\"&VLOOKUP(C47,#REF!,3,0),\"\")","v":""},{"$f":"IFERROR(VLOOKUP(C47,#REF!,3,0),\"\")","v":""},{"$f":"IFERROR(VLOOKUP(C47,#REF!,3,0),\"\")","v":""},{"$f":"IFERROR(VLOOKUP(C47,#REF!,2,0),\"\")","v":""}]
["岗位151",{"$f":"IFERROR(VLOOKUP(A48,#REF!,2,0),\"\")","v":""},"金融与管理",{"$f":"IFERROR(VLOOKUP($C48,#REF!,4,0),\"\")&IFERROR(\"；\"&VLOOKUP(C48,#REF!,3,0),\"\")","v":""},{"$f":"IFERROR(VLOOKUP(C48,#REF!,3,0),\"\")","v":""},{"$f":"IFERROR(VLOOKUP(C48,#REF!,3,0),\"\")","v":""},{"$f":"IFERROR(VLOOKUP(C48,#REF!,2,0),\"\")","v":""}]
["岗位151",{"$f":"IFERROR(VLOOKUP(A49,#REF!,2,0),\"\")","v":""},"城乡规划学",{"$f":"IFERROR(VLOOKUP($C49,#REF!,4,0),\"\")&IFERROR(\"；\"&VLOOKUP(C49,#REF!,3,0),\"\")","v":""},{"$f":"IFERROR(VLOOKUP(C49,#REF!,3,0),\"\")","v":""},{"$f":"IFERROR(VLOOKUP(C49,#REF!,3,0),\"\")","v":""},{"$f":"IFERROR(VLOOKUP(C49,#REF!,2,0),\"\")","v":""}]
["岗位152",{"$f":"IFERROR(VLOOKUP(A50,#REF!,2,0),\"\")","v":""},"法律类",{"$f":"IFERROR(VLOOKUP($C50,#REF!,4,0),\"\")&IFERROR(\"；\"&VLOOKUP(C50,#REF!,3,0),\"\")","v":""},{"$f":"IFERROR(VLOOKUP(C50,#REF!,3,0),\"\")","v":""},{"$f":"IFERROR(VLOOKUP(C50,#REF!,3,0),\"\")","v":""},{"$f":"IFERROR(VLOOKUP(C50,#REF!,2,0),\"\")","v":""}]
["岗位153",{"$f":"IFERROR(VLOOKUP(A51,#REF!,2,0),\"\")","v":""},"数学",{"$f":"IFERROR(VLOOKUP($C51,#REF!,4,0),\"\")&IFERROR(\"；\"&VLOOKUP(C51,#REF!,3,0),\"\")","v":""},{"$f":"IFERROR(VLOOKUP(C51,#REF!,3,0),\"\")","v":""},{"$f":"IFERROR(VLOOKUP(C51,#REF!,3,0),\"\")","v":""},{"$f":"IFERROR(VLOOKUP(C51,#REF!,2,0),\"\")","v":""}]
["岗位154",{"$f":"IFERROR(VLOOKUP(A52,#REF!,2,0),\"\")","v":""},"汉语言文学教育",{"$f":"IFERROR(VLOOKUP($C52,#REF!,4,0),\"\")&IFERROR(\"；\"&VLOOKUP(C52,#REF!,3,0),\"\")","v":""},{"$f":"IFERROR(VLOOKUP(C52,#REF!,3,0),\"\")","v":""},{"$f":"IFERROR(VLOOKUP(C52,#REF!,3,0),\"\")","v":""},{"$f":"IFERROR(VLOOKUP(C52,#REF!,2,0),\"\")","v":""}]
["岗位154",{"$f":"IFERROR(VLOOKUP(A53,#REF!,2,0),\"\")","v":""},"中文应用",{"$f":"IFERROR(VLOOKUP($C53,#REF!,4,0),\"\")&IFERROR(\"；\"&VLOOKUP(C53,#REF!,3,0),\"\")","v":""},{"$f":"IFERROR(VLOOKUP(C53,#REF!,3,0),\"\")","v":""},{"$f":"IFERROR(VLOOKUP(C53,#REF!,3,0),\"\")","v":""},{"$f":"IFERROR(VLOOKUP(C53,#REF!,2,0),\"\")","v":""}]
["岗位155",{"$f":"IFERROR(VLOOKUP(A54,#REF!,2,0),\"\")","v":""},"英语相关专业",{"$f":"IFERROR(VLOOKUP($C54,#REF!,4,0),\"\")&IFERROR(\"；\"&VLOOKUP(C54,#REF!,3,0),\"\")","v":""},{"$f":"IFERROR(VLOOKUP(C54,#REF!,3,0),\"\")","v":""},{"$f":"IFERROR(VLOOKUP(C54,#REF!,3,0),\"\")","v":""},{"$f":"IFERROR(VLOOKUP(C54,#REF!,2,0),\"\")","v":""}]
["岗位156",{"$f":"IFERROR(VLOOKUP(A55,#REF!,2,0),\"\")","v":""},"餐饮、酒店管理相关专业",{"$f":"IFERROR(VLOOKUP($C55,#REF!,4,0),\"\")&IFERROR(\"；\"&VLOOKUP(C55,#REF!,3,0),\"\")","v":""},{"$f":"IFERROR(VLOOKUP(C55,#REF!,3,0),\"\")","v":""},{"$f":"IFERROR(VLOOKUP(C55,#REF!,3,0),\"\")","v":""},{"$f":"IFERROR(VLOOKUP(C55,#REF!,2,0),\"\")","v":""}]
["岗位157",{"$f":"IFERROR(VLOOKUP(A56,#REF!,2,0),\"\")","v":""},"餐饮、酒店管理相关专业",{"$f":"IFERROR(VLOOKUP($C56,#REF!,4,0),\"\")&IFERROR(\"；\"&VLOOKUP(C56,#REF!,3,0),\"\")","v":""},{"$f":"IFERROR(VLOOKUP(C56,#REF!,3,0),\"\")","v":""},{"$f":"IFERROR(VLOOKUP(C56,#REF!,3,0),\"\")","v":""},{"$f":"IFERROR(VLOOKUP(C56,#REF!,2,0),\"\")","v":""}]
["岗位158",{"$f":"IFERROR(VLOOKUP(A57,#REF!,2,0),\"\")","v":""},"汽车类相关专业",{"$f":"IFERROR(VLOOKUP($C57,#REF!,4,0),\"\")&IFERROR(\"；\"&VLOOKUP(C57,#REF!,3,0),\"\")","v":""},{"$f":"IFERROR(VLOOKUP(C57,#REF!,3,0),\"\")","v":""},{"$f":"IFERROR(VLOOKUP(C57,#REF!,3,0),\"\")","v":""},{"$f":"IFERROR(VLOOKUP(C57,#REF!,2,0),\"\")","v":""}]
["岗位159",{"$f":"IFERROR(VLOOKUP(A58,#REF!,2,0),\"\")","v":""},"心理学相关专业",{"$f":"IFERROR(VLOOKUP($C58,#REF!,4,0),\"\")&IFERROR(\"；\"&VLOOKUP(C58,#REF!,3,0),\"\")","v":""},{"$f":"IFERROR(VLOOKUP(C58,#REF!,3,0),\"\")","v":""},{"$f":"IFERROR(VLOOKUP(C58,#REF!,3,0),\"\")","v":""},{"$f":"IFERROR(VLOOKUP(C58,#REF!,2,0),\"\")","v":""}]
["岗位160",{"$f":"IFERROR(VLOOKUP(A59,#REF!,2,0),\"\")","v":""},"舞蹈相关专业",{"$f":"IFERROR(VLOOKUP($C59,#REF!,4,0),\"\")&IFERROR(\"；\"&VLOOKUP(C59,#REF!,3,0),\"\")","v":""},{"$f":"IFERROR(VLOOKUP(C59,#REF!,3,0),\"\")","v":""},{"$f":"IFERROR(VLOOKUP(C59,#REF!,3,0),\"\")","v":""},{"$f":"IFERROR(VLOOKUP(C59,#REF!,2,0),\"\")","v":""}]
["岗位161",{"$f":"IFERROR(VLOOKUP(A60,#REF!,2,0),\"\")","v":""},"艺术设计（装饰雕塑）",{"$f":"IFERROR(VLOOKUP($C60,#REF!,4,0),\"\")&IFERROR(\"；\"&VLOOKUP(C60,#REF!,3,0),\"\")","v":""},{"$f":"IFERROR(VLOOKUP(C60,#REF!,3,0),\"\")","v":""},{"$f":"IFERROR(VLOOKUP(C60,#REF!,3,0),\"\")","v":""},{"$f":"IFERROR(VLOOKUP(C60,#REF!,2,0),\"\")","v":""}]
["岗位163",{"$f":"IFERROR(VLOOKUP(A61,#REF!,2,0),\"\")","v":""},"国际贸易与英语",{"$f":"IFERROR(VLOOKUP($C61,#REF!,4,0),\"\")&IFERROR(\"；\"&VLOOKUP(C61,#REF!,3,0),\"\")","v":""},{"$f":"IFERROR(VLOOKUP(C61,#REF!,3,0),\"\")","v":""},{"$f":"IFERROR(VLOOKUP(C61,#REF!,3,0),\"\")","v":""},{"$f":"IFERROR(VLOOKUP(C61,#REF!,2,0),\"\")","v":""}]
["岗位165",{"$f":"IFERROR(VLOOKUP(A62,#REF!,2,0),\"\")","v":""},"控制科学与工程",{"$f":"IFERROR(VLOOKUP($C62,#REF!,4,0),\"\")&IFERROR(\"；\"&VLOOKUP(C62,#REF!,3,0),\"\")","v":""},{"$f":"IFERROR(VLOOKUP(C62,#REF!,3,0),\"\")","v":""},{"$f":"IFERROR(VLOOKUP(C62,#REF!,3,0),\"\")","v":""},{"$f":"IFERROR(VLOOKUP(C62,#REF!,2,0),\"\")","v":""}]
["岗位166",{"$f":"IFERROR(VLOOKUP(A63,#REF!,2,0),\"\")","v":""},"机械类",{"$f":"IFERROR(VLOOKUP($C63,#REF!,4,0),\"\")&IFERROR(\"；\"&VLOOKUP(C63,#REF!,3,0),\"\")","v":""},{"$f":"IFERROR(VLOOKUP(C63,#REF!,3,0),\"\")","v":""},{"$f":"IFERROR(VLOOKUP(C63,#REF!,3,0),\"\")","v":""},{"$f":"IFERROR(VLOOKUP(C63,#REF!,2,0),\"\")","v":""}]
["岗位172",{"$f":"IFERROR(VLOOKUP(A64,#REF!,2,0),\"\")","v":""},"会计",{"$f":"IFERROR(VLOOKUP($C64,#REF!,4,0),\"\")&IFERROR(\"；\"&VLOOKUP(C64,#REF!,3,0),\"\")","v":""},{"$f":"IFERROR(VLOOKUP(C64,#REF!,3,0),\"\")","v":""},{"$f":"IFERROR(VLOOKUP(C64,#REF!,3,0),\"\")","v":""},{"$f":"IFERROR(VLOOKUP(C64,#REF!,2,0),\"\")","v":""}]
["岗位173",{"$f":"IFERROR(VLOOKUP(A65,#REF!,2,0),\"\")","v":""},"会计",{"$f":"IFERROR(VLOOKUP($C65,#REF!,4,0),\"\")&IFERROR(\"；\"&VLOOKUP(C65,#REF!,3,0),\"\")","v":""},{"$f":"IFERROR(VLOOKUP(C65,#REF!,3,0),\"\")","v":""},{"$f":"IFERROR(VLOOKUP(C65,#REF!,3,0),\"\")","v":""},{"$f":"IFERROR(VLOOKUP(C65,#REF!,2,0),\"\")","v":""}]
["岗位174",{"$f":"IFERROR(VLOOKUP(A66,#REF!,2,0),\"\")","v":""},"环境科学与工程",{"$f":"IFERROR(VLOOKUP($C66,#REF!,4,0),\"\")&IFERROR(\"；\"&VLOOKUP(C66,#REF!,3,0),\"\")","v":""},{"$f":"IFERROR(VLOOKUP(C66,#REF!,3,0),\"\")","v":""},{"$f":"IFERROR(VLOOKUP(C66,#REF!,3,0),\"\")","v":""},{"$f":"IFERROR(VLOOKUP(C66,#REF!,2,0),\"\")","v":""}]
["岗位174",{"$f":"IFERROR(VLOOKUP(A67,#REF!,2,0),\"\")","v":""},"大气科学",{"$f":"IFERROR(VLOOKUP($C67,#REF!,4,0),\"\")&IFERROR(\"；\"&VLOOKUP(C67,#REF!,3,0),\"\")","v":""},{"$f":"IFERROR(VLOOKUP(C67,#REF!,3,0),\"\")","v":""},{"$f":"IFERROR(VLOOKUP(C67,#REF!,3,0),\"\")","v":""},{"$f":"IFERROR(VLOOKUP(C67,#REF!,2,0),\"\")","v":""}]
["岗位174",{"$f":"IFERROR(VLOOKUP(A68,#REF!,2,0),\"\")","v":""},"海洋科学",{"$f":"IFERROR(VLOOKUP($C68,#REF!,4,0),\"\")&IFERROR(\"；\"&VLOOKUP(C68,#REF!,3,0),\"\")","v":""},{"$f":"IFERROR(VLOOKUP(C68,#REF!,3,0),\"\")","v":""},{"$f":"IFERROR(VLOOKUP(C68,#REF!,3,0),\"\")","v":""},{"$f":"IFERROR(VLOOKUP(C68,#REF!,2,0),\"\")","v":""}]
["岗位174",{"$f":"IFERROR(VLOOKUP(A69,#REF!,2,0),\"\")","v":""},"冶金工程",{"$f":"IFERROR(VLOOKUP($C69,#REF!,4,0),\"\")&IFERROR(\"；\"&VLOOKUP(C69,#REF!,3,0),\"\")","v":""},{"$f":"IFERROR(VLOOKUP(C69,#REF!,3,0),\"\")","v":""},{"$f":"IFERROR(VLOOKUP(C69,#REF!,3,0),\"\")","v":""},{"$f":"IFERROR(VLOOKUP(C69,#REF!,2,0),\"\")","v":""}]
["岗位175",{"$f":"IFERROR(VLOOKUP(A70,#REF!,2,0),\"\")","v":""},"环境科学与工程",{"$f":"IFERROR(VLOOKUP($C70,#REF!,4,0),\"\")&IFERROR(\"；\"&VLOOKUP(C70,#REF!,3,0),\"\")","v":""},{"$f":"IFERROR(VLOOKUP(C70,#REF!,3,0),\"\")","v":""},{"$f":"IFERROR(VLOOKUP(C70,#REF!,3,0),\"\")","v":""},{"$f":"IFERROR(VLOOKUP(C70,#REF!,2,0),\"\")","v":""}]
["岗位175",{"$f":"IFERROR(VLOOKUP(A71,#REF!,2,0),\"\")","v":""},"大气科学",{"$f":"IFERROR(VLOOKUP($C71,#REF!,4,0),\"\")&IFERROR(\"；\"&VLOOKUP(C71,#REF!,3,0),\"\")","v":""},{"$f":"IFERROR(VLOOKUP(C71,#REF!,3,0),\"\")","v":""},{"$f":"IFERROR(VLOOKUP(C71,#REF!,3,0),\"\")","v":""},{"$f":"IFERROR(VLOOKUP(C71,#REF!,2,0),\"\")","v":""}]
["岗位175",{"$f":"IFERROR(VLOOKUP(A72,#REF!,2,0),\"\")","v":""},"海洋科学",{"$f":"IFERROR(VLOOKUP($C72,#REF!,4,0),\"\")&IFERROR(\"；\"&VLOOKUP(C72,#REF!,3,0),\"\")","v":""},{"$f":"IFERROR(VLOOKUP(C72,#REF!,3,0),\"\")","v":""},{"$f":"IFERROR(VLOOKUP(C72,#REF!,3,0),\"\")","v":""},{"$f":"IFERROR(VLOOKUP(C72,#REF!,2,0),\"\")","v":""}]
["岗位175",{"$f":"IFERROR(VLOOKUP(A73,#REF!,2,0),\"\")","v":""},"化学工程与技术",{"$f":"IFERROR(VLOOKUP($C73,#REF!,4,0),\"\")&IFERROR(\"；\"&VLOOKUP(C73,#REF!,3,0),\"\")","v":""},{"$f":"IFERROR(VLOOKUP(C73,#REF!,3,0),\"\")","v":""},{"$f":"IFERROR(VLOOKUP(C73,#REF!,3,0),\"\")","v":""},{"$f":"IFERROR(VLOOKUP(C73,#REF!,2,0),\"\")","v":""}]
["岗位175",{"$f":"IFERROR(VLOOKUP(A74,#REF!,2,0),\"\")","v":""},"控制科学与工程",{"$f":"IFERROR(VLOOKUP($C74,#REF!,4,0),\"\")&IFERROR(\"；\"&VLOOKUP(C74,#REF!,3,0),\"\")","v":""},{"$f":"IFERROR(VLOOKUP(C74,#REF!,3,0),\"\")","v":""},{"$f":"IFERROR(VLOOKUP(C74,#REF!,3,0),\"\")","v":""},{"$f":"IFERROR(VLOOKUP(C74,#REF!,2,0),\"\")","v":""}]
["岗位175",{"$f":"IFERROR(VLOOKUP(A75,#REF!,2,0),\"\")","v":""},"冶金工程",{"$f":"IFERROR(VLOOKUP($C75,#REF!,4,0),\"\")&IFERROR(\"；\"&VLOOKUP(C75,#REF!,3,0),\"\")","v":""},{"$f":"IFERROR(VLOOKUP(C75,#REF!,3,0),\"\")","v":""},{"$f":"IFERROR(VLOOKUP(C75,#REF!,3,0),\"\")","v":""},{"$f":"IFERROR(VLOOKUP(C75,#REF!,2,0),\"\")","v":""}]
["岗位176",{"$f":"IFERROR(VLOOKUP(A76,#REF!,2,0),\"\")","v":""},"环境科学与工程",{"$f":"IFERROR(VLOOKUP($C76,#REF!,4,0),\"\")&IFERROR(\"；\"&VLOOKUP(C76,#REF!,3,0),\"\")","v":""},{"$f":"IFERROR(VLOOKUP(C76,#REF!,3,0),\"\")","v":""},{"$f":"IFERROR(VLOOKUP(C76,#REF!,3,0),\"\")","v":""},{"$f":"IFERROR(VLOOKUP(C76,#REF!,2,0),\"\")","v":""}]
["岗位176",{"$f":"IFERROR(VLOOKUP(A77,#REF!,2,0),\"\")","v":""},"大气科学",{"$f":"IFERROR(VLOOKUP($C77,#REF!,4,0),\"\")&IFERROR(\"；\"&VLOOKUP(C77,#REF!,3,0),\"\")","v":""},{"$f":"IFERROR(VLOOKUP(C77,#REF!,3,0),\"\")","v":""},{"$f":"IFERROR(VLOOKUP(C77,#REF!,3,0),\"\")","v":""},{"$f":"IFERROR(VLOOKUP(C77,#REF!,2,0),\"\")","v":""}]
["岗位176",{"$f":"IFERROR(VLOOKUP(A78,#REF!,2,0),\"\")","v":""},"海洋科学",{"$f":"IFERROR(VLOOKUP($C78,#REF!,4,0),\"\")&IFERROR(\"；\"&VLOOKUP(C78,#REF!,3,0),\"\")","v":""},{"$f":"IFERROR(VLOOKUP(C78,#REF!,3,0),\"\")","v":""},{"$f":"IFERROR(VLOOKUP(C78,#REF!,3,0),\"\")","v":""},{"$f":"IFERROR(VLOOKUP(C78,#REF!,2,0),\"\")","v":""}]
["岗位176",{"$f":"IFERROR(VLOOKUP(A79,#REF!,2,0),\"\")","v":""},"化学工程与技术",{"$f":"IFERROR(VLOOKUP($C79,#REF!,4,0),\"\")&IFERROR(\"；\"&VLOOKUP(C79,#REF!,3,0),\"\")","v":""},{"$f":"IFERROR(VLOOKUP(C79,#REF!,3,0),\"\")","v":""},{"$f":"IFERROR(VLOOKUP(C79,#REF!,3,0),\"\")","v":""},{"$f":"IFERROR(VLOOKUP(C79,#REF!,2,0),\"\")","v":""}]
["岗位176",{"$f":"IFERROR(VLOOKUP(A80,#REF!,2,0),\"\")","v":""},"控制科学与工程",{"$f":"IFERROR(VLOOKUP($C80,#REF!,4,0),\"\")&IFERROR(\"；\"&VLOOKUP(C80,#REF!,3,0),\"\")","v":""},{"$f":"IFERROR(VLOOKUP(C80,#REF!,3,0),\"\")","v":""},{"$f":"IFERROR(VLOOKUP(C80,#REF!,3,0),\"\")","v":""},{"$f":"IFERROR(VLOOKUP(C80,#REF!,2,0),\"\")","v":""}]
["岗位176",{"$f":"IFERROR(VLOOKUP(A81,#REF!,2,0),\"\")","v":""},"冶金工程",{"$f":"IFERROR(VLOOKUP($C81,#REF!,4,0),\"\")&IFERROR(\"；\"&VLOOKUP(C81,#REF!,3,0),\"\")","v":""},{"$f":"IFERROR(VLOOKUP(C81,#REF!,3,0),\"\")","v":""},{"$f":"IFERROR(VLOOKUP(C81,#REF!,3,0),\"\")","v":""},{"$f":"IFERROR(VLOOKUP(C81,#REF!,2,0),\"\")","v":""}]
["岗位178",{"$f":"IFERROR(VLOOKUP(A82,#REF!,2,0),\"\")","v":""},"船舶与海洋工程",{"$f":"IFERROR(VLOOKUP($C82,#REF!,4,0),\"\")&IFERROR(\"；\"&VLOOKUP(C82,#REF!,3,0),\"\")","v":""},{"$f":"IFERROR(VLOOKUP(C82,#REF!,3,0),\"\")","v":""},{"$f":"IFERROR(VLOOKUP(C82,#REF!,3,0),\"\")","v":""},{"$f":"IFERROR(VLOOKUP(C82,#REF!,2,0),\"\")","v":""}]
["岗位179",{"$f":"IFERROR(VLOOKUP(A83,#REF!,2,0),\"\")","v":""},"海岸带综合管理",{"$f":"IFERROR(VLOOKUP($C83,#REF!,4,0),\"\")&IFERROR(\"；\"&VLOOKUP(C83,#REF!,3,0),\"\")","v":""},{"$f":"IFERROR(VLOOKUP(C83,#REF!,3,0),\"\")","v":""},{"$f":"IFERROR(VLOOKUP(C83,#REF!,3,0),\"\")","v":""},{"$f":"IFERROR(VLOOKUP(C83,#REF!,2,0),\"\")","v":""}]
["岗位181",{"$f":"IFERROR(VLOOKUP(A84,#REF!,2,0),\"\")","v":""},"会计",{"$f":"IFERROR(VLOOKUP($C84,#REF!,4,0),\"\")&IFERROR(\"；\"&VLOOKUP(C84,#REF!,3,0),\"\")","v":""},{"$f":"IFERROR(VLOOKUP(C84,#REF!,3,0),\"\")","v":""},{"$f":"IFERROR(VLOOKUP(C84,#REF!,3,0),\"\")","v":""},{"$f":"IFERROR(VLOOKUP(C84,#REF!,2,0),\"\")","v":""}]
["岗位181",{"$f":"IFERROR(VLOOKUP(A85,#REF!,2,0),\"\")","v":""},"财务会计",{"$f":"IFERROR(VLOOKUP($C85,#REF!,4,0),\"\")&IFERROR(\"；\"&VLOOKUP(C85,#REF!,3,0),\"\")","v":""},{"$f":"IFERROR(VLOOKUP(C85,#REF!,3,0),\"\")","v":""},{"$f":"IFERROR(VLOOKUP(C85,#REF!,3,0),\"\")","v":""},{"$f":"IFERROR(VLOOKUP(C85,#REF!,2,0),\"\")","v":""}]
["岗位181",{"$f":"IFERROR(VLOOKUP(A86,#REF!,2,0),\"\")","v":""},"财会",{"$f":"IFERROR(VLOOKUP($C86,#REF!,4,0),\"\")&IFERROR(\"；\"&VLOOKUP(C86,#REF!,3,0),\"\")","v":""},{"$f":"IFERROR(VLOOKUP(C86,#REF!,3,0),\"\")","v":""},{"$f":"IFERROR(VLOOKUP(C86,#REF!,3,0),\"\")","v":""},{"$f":"IFERROR(VLOOKUP(C86,#REF!,2,0),\"\")","v":""}]
["岗位181",{"$f":"IFERROR(VLOOKUP(A87,#REF!,2,0),\"\")","v":""},"会计电算化",{"$f":"IFERROR(VLOOKUP($C87,#REF!,4,0),\"\")&IFERROR(\"；\"&VLOOKUP(C87,#REF!,3,0),\"\")","v":""},{"$f":"IFERROR(VLOOKUP(C87,#REF!,3,0),\"\")","v":""},{"$f":"IFERROR(VLOOKUP(C87,#REF!,3,0),\"\")","v":""},{"$f":"IFERROR(VLOOKUP(C87,#REF!,2,0),\"\")","v":""}]
["岗位181",{"$f":"IFERROR(VLOOKUP(A88,#REF!,2,0),\"\")","v":""},"财务电算化",{"$f":"IFERROR(VLOOKUP($C88,#REF!,4,0),\"\")&IFERROR(\"；\"&VLOOKUP(C88,#REF!,3,0),\"\")","v":""},{"$f":"IFERROR(VLOOKUP(C88,#REF!,3,0),\"\")","v":""},{"$f":"IFERROR(VLOOKUP(C88,#REF!,3,0),\"\")","v":""},{"$f":"IFERROR(VLOOKUP(C88,#REF!,2,0),\"\")","v":""}]
["岗位182",{"$f":"IFERROR(VLOOKUP(A89,#REF!,2,0),\"\")","v":""},"法律",{"$f":"IFERROR(VLOOKUP($C89,#REF!,4,0),\"\")&IFERROR(\"；\"&VLOOKUP(C89,#REF!,3,0),\"\")","v":""},{"$f":"IFERROR(VLOOKUP(C89,#REF!,3,0),\"\")","v":""},{"$f":"IFERROR(VLOOKUP(C89,#REF!,3,0),\"\")","v":""},{"$f":"IFERROR(VLOOKUP(C89,#REF!,2,0),\"\")","v":""}]
["岗位183",{"$f":"IFERROR(VLOOKUP(A90,#REF!,2,0),\"\")","v":""},"法律类专业",{"$f":"IFERROR(VLOOKUP($C90,#REF!,4,0),\"\")&IFERROR(\"；\"&VLOOKUP(C90,#REF!,3,0),\"\")","v":""},{"$f":"IFERROR(VLOOKUP(C90,#REF!,3,0),\"\")","v":""},{"$f":"IFERROR(VLOOKUP(C90,#REF!,3,0),\"\")","v":""},{"$f":"IFERROR(VLOOKUP(C90,#REF!,2,0),\"\")","v":""}]
["岗位184",{"$f":"IFERROR(VLOOKUP(A91,#REF!,2,0),\"\")","v":""},"法律类专业",{"$f":"IFERROR(VLOOKUP($C91,#REF!,4,0),\"\")&IFERROR(\"；\"&VLOOKUP(C91,#REF!,3,0),\"\")","v":""},{"$f":"IFERROR(VLOOKUP(C91,#REF!,3,0),\"\")","v":""},{"$f":"IFERROR(VLOOKUP(C91,#REF!,3,0),\"\")","v":""},{"$f":"IFERROR(VLOOKUP(C91,#REF!,2,0),\"\")","v":""}]
["岗位185",{"$f":"IFERROR(VLOOKUP(A92,#REF!,2,0),\"\")","v":""},"建筑工程",{"$f":"IFERROR(VLOOKUP($C92,#REF!,4,0),\"\")&IFERROR(\"；\"&VLOOKUP(C92,#REF!,3,0),\"\")","v":""},{"$f":"IFERROR(VLOOKUP(C92,#REF!,3,0),\"\")","v":""},{"$f":"IFERROR(VLOOKUP(C92,#REF!,3,0),\"\")","v":""},{"$f":"IFERROR(VLOOKUP(C92,#REF!,2,0),\"\")","v":""}]
["岗位185",{"$f":"IFERROR(VLOOKUP(A93,#REF!,2,0),\"\")","v":""},"工业与民用建筑",{"$f":"IFERROR(VLOOKUP($C93,#REF!,4,0),\"\")&IFERROR(\"；\"&VLOOKUP(C93,#REF!,3,0),\"\")","v":""},{"$f":"IFERROR(VLOOKUP(C93,#REF!,3,0),\"\")","v":""},{"$f":"IFERROR(VLOOKUP(C93,#REF!,3,0),\"\")","v":""},{"$f":"IFERROR(VLOOKUP(C93,#REF!,2,0),\"\")","v":""}]
["岗位185",{"$f":"IFERROR(VLOOKUP(A94,#REF!,2,0),\"\")","v":""},"建筑与土木工程",{"$f":"IFERROR(VLOOKUP($C94,#REF!,4,0),\"\")&IFERROR(\"；\"&VLOOKUP(C94,#REF!,3,0),\"\")","v":""},{"$f":"IFERROR(VLOOKUP(C94,#REF!,3,0),\"\")","v":""},{"$f":"IFERROR(VLOOKUP(C94,#REF!,3,0),\"\")","v":""},{"$f":"IFERROR(VLOOKUP(C94,#REF!,2,0),\"\")","v":""}]
["岗位186",{"$f":"IFERROR(VLOOKUP(A95,#REF!,2,0),\"\")","v":""},"法律",{"$f":"IFERROR(VLOOKUP($C95,#REF!,4,0),\"\")&IFERROR(\"；\"&VLOOKUP(C95,#REF!,3,0),\"\")","v":""},{"$f":"IFERROR(VLOOKUP(C95,#REF!,3,0),\"\")","v":""},{"$f":"IFERROR(VLOOKUP(C95,#REF!,3,0),\"\")","v":""},{"$f":"IFERROR(VLOOKUP(C95,#REF!,2,0),\"\")","v":""}]
["岗位186",{"$f":"IFERROR(VLOOKUP(A96,#REF!,2,0),\"\")","v":""},"行政诉讼法学",{"$f":"IFERROR(VLOOKUP($C96,#REF!,4,0),\"\")&IFERROR(\"；\"&VLOOKUP(C96,#REF!,3,0),\"\")","v":""},{"$f":"IFERROR(VLOOKUP(C96,#REF!,3,0),\"\")","v":""},{"$f":"IFERROR(VLOOKUP(C96,#REF!,3,0),\"\")","v":""},{"$f":"IFERROR(VLOOKUP(C96,#REF!,2,0),\"\")","v":""}]
["岗位187",{"$f":"IFERROR(VLOOKUP(A97,#REF!,2,0),\"\")","v":""},"计算机与信息管理",{"$f":"IFERROR(VLOOKUP($C97,#REF!,4,0),\"\")&IFERROR(\"；\"&VLOOKUP(C97,#REF!,3,0),\"\")","v":""},{"$f":"IFERROR(VLOOKUP(C97,#REF!,3,0),\"\")","v":""},{"$f":"IFERROR(VLOOKUP(C97,#REF!,3,0),\"\")","v":""},{"$f":"IFERROR(VLOOKUP(C97,#REF!,2,0),\"\")","v":""}]
["岗位187",{"$f":"IFERROR(VLOOKUP(A98,#REF!,2,0),\"\")","v":""},"应用软件工程",{"$f":"IFERROR(VLOOKUP($C98,#REF!,4,0),\"\")&IFERROR(\"；\"&VLOOKUP(C98,#REF!,3,0),\"\")","v":""},{"$f":"IFERROR(VLOOKUP(C98,#REF!,3,0),\"\")","v":""},{"$f":"IFERROR(VLOOKUP(C98,#REF!,3,0),\"\")","v":""},{"$f":"IFERROR(VLOOKUP(C98,#REF!,2,0),\"\")","v":""}]
["岗位189",{"$f":"IFERROR(VLOOKUP(A99,#REF!,2,0),\"\")","v":""},"建筑工程",{"$f":"IFERROR(VLOOKUP($C99,#REF!,4,0),\"\")&IFERROR(\"；\"&VLOOKUP(C99,#REF!,3,0),\"\")","v":""},{"$f":"IFERROR(VLOOKUP(C99,#REF!,3,0),\"\")","v":""},{"$f":"IFERROR(VLOOKUP(C99,#REF!,3,0),\"\")","v":""},{"$f":"IFERROR(VLOOKUP(C99,#REF!,2,0),\"\")","v":""}]
["岗位189",{"$f":"IFERROR(VLOOKUP(A100,#REF!,2,0),\"\")","v":""},"工业与民用建筑",{"$f":"IFERROR(VLOOKUP($C100,#REF!,4,0),\"\")&IFERROR(\"；\"&VLOOKUP(C100,#REF!,3,0),\"\")","v":""},{"$f":"IFERROR(VLOOKUP(C100,#REF!,3,0),\"\")","v":""},{"$f":"IFERROR(VLOOKUP(C100,#REF!,3,0),\"\")","v":""},{"$f":"IFERROR(VLOOKUP(C100,#REF!,2,0),\"\")","v":""}]
["岗位189",{"$f":"IFERROR(VLOOKUP(A101,#REF!,2,0),\"\")","v":""},"建筑与土木工程",{"$f":"IFERROR(VLOOKUP($C101,#REF!,4,0),\"\")&IFERROR(\"；\"&VLOOKUP(C101,#REF!,3,0),\"\")","v":""},{"$f":"IFERROR(VLOOKUP(C101,#REF!,3,0),\"\")","v":""},{"$f":"IFERROR(VLOOKUP(C101,#REF!,3,0),\"\")","v":""},{"$f":"IFERROR(VLOOKUP(C101,#REF!,2,0),\"\")","v":""}]
["岗位190",{"$f":"IFERROR(VLOOKUP(A102,#REF!,2,0),\"\")","v":""},"会计",{"$f":"IFERROR(VLOOKUP($C102,#REF!,4,0),\"\")&IFERROR(\"；\"&VLOOKUP(C102,#REF!,3,0),\"\")","v":""},{"$f":"IFERROR(VLOOKUP(C102,#REF!,3,0),\"\")","v":""},{"$f":"IFERROR(VLOOKUP(C102,#REF!,3,0),\"\")","v":""},{"$f":"IFERROR(VLOOKUP(C102,#REF!,2,0),\"\")","v":""}]
["岗位190",{"$f":"IFERROR(VLOOKUP(A103,#REF!,2,0),\"\")","v":""},"财务会计",{"$f":"IFERROR(VLOOKUP($C103,#REF!,4,0),\"\")&IFERROR(\"；\"&VLOOKUP(C103,#REF!,3,0),\"\")","v":""},{"$f":"IFERROR(VLOOKUP(C103,#REF!,3,0),\"\")","v":""},{"$f":"IFERROR(VLOOKUP(C103,#REF!,3,0),\"\")","v":""},{"$f":"IFERROR(VLOOKUP(C103,#REF!,2,0),\"\")","v":""}]
["岗位191",{"$f":"IFERROR(VLOOKUP(A104,#REF!,2,0),\"\")","v":""},"建筑工程",{"$f":"IFERROR(VLOOKUP($C104,#REF!,4,0),\"\")&IFERROR(\"；\"&VLOOKUP(C104,#REF!,3,0),\"\")","v":""},{"$f":"IFERROR(VLOOKUP(C104,#REF!,3,0),\"\")","v":""},{"$f":"IFERROR(VLOOKUP(C104,#REF!,3,0),\"\")","v":""},{"$f":"IFERROR(VLOOKUP(C104,#REF!,2,0),\"\")","v":""}]
["岗位191",{"$f":"IFERROR(VLOOKUP(A105,#REF!,2,0),\"\")","v":""},"工业与民用建筑",{"$f":"IFERROR(VLOOKUP($C105,#REF!,4,0),\"\")&IFERROR(\"；\"&VLOOKUP(C105,#REF!,3,0),\"\")","v":""},{"$f":"IFERROR(VLOOKUP(C105,#REF!,3,0),\"\")","v":""},{"$f":"IFERROR(VLOOKUP(C105,#REF!,3,0),\"\")","v":""},{"$f":"IFERROR(VLOOKUP(C105,#REF!,2,0),\"\")","v":""}]
["岗位191",{"$f":"IFERROR(VLOOKUP(A106,#REF!,2,0),\"\")","v":""},"建筑与土木工程",{"$f":"IFERROR(VLOOKUP($C106,#REF!,4,0),\"\")&IFERROR(\"；\"&VLOOKUP(C106,#REF!,3,0),\"\")","v":""},{"$f":"IFERROR(VLOOKUP(C106,#REF!,3,0),\"\")","v":""},{"$f":"IFERROR(VLOOKUP(C106,#REF!,3,0),\"\")","v":""},{"$f":"IFERROR(VLOOKUP(C106,#REF!,2,0),\"\")","v":""}]
["岗位192",{"$f":"IFERROR(VLOOKUP(A107,#REF!,2,0),\"\")","v":""},"会计",{"$f":"IFERROR(VLOOKUP($C107,#REF!,4,0),\"\")&IFERROR(\"；\"&VLOOKUP(C107,#REF!,3,0),\"\")","v":""},{"$f":"IFERROR(VLOOKUP(C107,#REF!,3,0),\"\")","v":""},{"$f":"IFERROR(VLOOKUP(C107,#REF!,3,0),\"\")","v":""},{"$f":"IFERROR(VLOOKUP(C107,#REF!,2,0),\"\")","v":""}]
["岗位192",{"$f":"IFERROR(VLOOKUP(A108,#REF!,2,0),\"\")","v":""},"财务会计",{"$f":"IFERROR(VLOOKUP($C108,#REF!,4,0),\"\")&IFERROR(\"；\"&VLOOKUP(C108,#REF!,3,0),\"\")","v":""},{"$f":"IFERROR(VLOOKUP(C108,#REF!,3,0),\"\")","v":""},{"$f":"IFERROR(VLOOKUP(C108,#REF!,3,0),\"\")","v":""},{"$f":"IFERROR(VLOOKUP(C108,#REF!,2,0),\"\")","v":""}]
["岗位193",{"$f":"IFERROR(VLOOKUP(A109,#REF!,2,0),\"\")","v":""},"建筑工程",{"$f":"IFERROR(VLOOKUP($C109,#REF!,4,0),\"\")&IFERROR(\"；\"&VLOOKUP(C109,#REF!,3,0),\"\")","v":""},{"$f":"IFERROR(VLOOKUP(C109,#REF!,3,0),\"\")","v":""},{"$f":"IFERROR(VLOOKUP(C109,#REF!,3,0),\"\")","v":""},{"$f":"IFERROR(VLOOKUP(C109,#REF!,2,0),\"\")","v":""}]
["岗位193",{"$f":"IFERROR(VLOOKUP(A110,#REF!,2,0),\"\")","v":""},"工业与民用建筑",{"$f":"IFERROR(VLOOKUP($C110,#REF!,4,0),\"\")&IFERROR(\"；\"&VLOOKUP(C110,#REF!,3,0),\"\")","v":""},{"$f":"IFERROR(VLOOKUP(C110,#REF!,3,0),\"\")","v":""},{"$f":"IFERROR(VLOOKUP(C110,#REF!,3,0),\"\")","v":""},{"$f":"IFERROR(VLOOKUP(C110,#REF!,2,0),\"\")","v":""}]
["岗位193",{"$f":"IFERROR(VLOOKUP(A111,#REF!,2,0),\"\")","v":""},"建筑与土木工程",{"$f":"IFERROR(VLOOKUP($C111,#REF!,4,0),\"\")&IFERROR(\"；\"&VLOOKUP(C111,#REF!,3,0),\"\")","v":""},{"$f":"IFERROR(VLOOKUP(C111,#REF!,3,0),\"\")","v":""},{"$f":"IFERROR(VLOOKUP(C111,#REF!,3,0),\"\")","v":""},{"$f":"IFERROR(VLOOKUP(C111,#REF!,2,0),\"\")","v":""}]
["岗位194",{"$f":"IFERROR(VLOOKUP(A112,#REF!,2,0),\"\")","v":""},"建筑工程",{"$f":"IFERROR(VLOOKUP($C112,#REF!,4,0),\"\")&IFERROR(\"；\"&VLOOKUP(C112,#REF!,3,0),\"\")","v":""},{"$f":"IFERROR(VLOOKUP(C112,#REF!,3,0),\"\")","v":""},{"$f":"IFERROR(VLOOKUP(C112,#REF!,3,0),\"\")","v":""},{"$f":"IFERROR(VLOOKUP(C112,#REF!,2,0),\"\")","v":""}]
["岗位194",{"$f":"IFERROR(VLOOKUP(A113,#REF!,2,0),\"\")","v":""},"工业与民用建筑",{"$f":"IFERROR(VLOOKUP($C113,#REF!,4,0),\"\")&IFERROR(\"；\"&VLOOKUP(C113,#REF!,3,0),\"\")","v":""},{"$f":"IFERROR(VLOOKUP(C113,#REF!,3,0),\"\")","v":""},{"$f":"IFERROR(VLOOKUP(C113,#REF!,3,0),\"\")","v":""},{"$f":"IFERROR(VLOOKUP(C113,#REF!,2,0),\"\")","v":""}]
["岗位194",{"$f":"IFERROR(VLOOKUP(A114,#REF!,2,0),\"\")","v":""},"建筑与土木工程",{"$f":"IFERROR(VLOOKUP($C114,#REF!,4,0),\"\")&IFERROR(\"；\"&VLOOKUP(C114,#REF!,3,0),\"\")","v":""},{"$f":"IFERROR(VLOOKUP(C114,#REF!,3,0),\"\")","v":""},{"$f":"IFERROR(VLOOKUP(C114,#REF!,3,0),\"\")","v":""},{"$f":"IFERROR(VLOOKUP(C114,#REF!,2,0),\"\")","v":""}]
["岗位194",{"$f":"IFERROR(VLOOKUP(A115,#REF!,2,0),\"\")","v":""},"建筑工程管理",{"$f":"IFERROR(VLOOKUP($C115,#REF!,4,0),\"\")&IFERROR(\"；\"&VLOOKUP(C115,#REF!,3,0),\"\")","v":""},{"$f":"IFERROR(VLOOKUP(C115,#REF!,3,0),\"\")","v":""},{"$f":"IFERROR(VLOOKUP(C115,#REF!,3,0),\"\")","v":""},{"$f":"IFERROR(VLOOKUP(C115,#REF!,2,0),\"\")","v":""}]
["岗位195",{"$f":"IFERROR(VLOOKUP(A116,#REF!,2,0),\"\")","v":""},"城市燃气工程",{"$f":"IFERROR(VLOOKUP($C116,#REF!,4,0),\"\")&IFERROR(\"；\"&VLOOKUP(C116,#REF!,3,0),\"\")","v":""},{"$f":"IFERROR(VLOOKUP(C116,#REF!,3,0),\"\")","v":""},{"$f":"IFERROR(VLOOKUP(C116,#REF!,3,0),\"\")","v":""},{"$f":"IFERROR(VLOOKUP(C116,#REF!,2,0),\"\")","v":""}]
["岗位195",{"$f":"IFERROR(VLOOKUP(A117,#REF!,2,0),\"\")","v":""},"供热通风与空调工程",{"$f":"IFERROR(VLOOKUP($C117,#REF!,4,0),\"\")&IFERROR(\"；\"&VLOOKUP(C117,#REF!,3,0),\"\")","v":""},{"$f":"IFERROR(VLOOKUP(C117,#REF!,3,0),\"\")","v":""},{"$f":"IFERROR(VLOOKUP(C117,#REF!,3,0),\"\")","v":""},{"$f":"IFERROR(VLOOKUP(C117,#REF!,2,0),\"\")","v":""}]
["岗位195",{"$f":"IFERROR(VLOOKUP(A118,#REF!,2,0),\"\")","v":""},"供热、供燃气、通风与空调工程",{"$f":"IFERROR(VLOOKUP($C118,#REF!,4,0),\"\")&IFERROR(\"；\"&VLOOKUP(C118,#REF!,3,0),\"\")","v":""},{"$f":"IFERROR(VLOOKUP(C118,#REF!,3,0),\"\")","v":""},{"$f":"IFERROR(VLOOKUP(C118,#REF!,3,0),\"\")","v":""},{"$f":"IFERROR(VLOOKUP(C118,#REF!,2,0),\"\")","v":""}]
["岗位196",{"$f":"IFERROR(VLOOKUP(A119,#REF!,2,0),\"\")","v":""},"城市燃气工程",{"$f":"IFERROR(VLOOKUP($C119,#REF!,4,0),\"\")&IFERROR(\"；\"&VLOOKUP(C119,#REF!,3,0),\"\")","v":""},{"$f":"IFERROR(VLOOKUP(C119,#REF!,3,0),\"\")","v":""},{"$f":"IFERROR(VLOOKUP(C119,#REF!,3,0),\"\")","v":""},{"$f":"IFERROR(VLOOKUP(C119,#REF!,2,0),\"\")","v":""}]
["岗位196",{"$f":"IFERROR(VLOOKUP(A120,#REF!,2,0),\"\")","v":""},"供热通风与空调工程",{"$f":"IFERROR(VLOOKUP($C120,#REF!,4,0),\"\")&IFERROR(\"；\"&VLOOKUP(C120,#REF!,3,0),\"\")","v":""},{"$f":"IFERROR(VLOOKUP(C120,#REF!,3,0),\"\")","v":""},{"$f":"IFERROR(VLOOKUP(C120,#REF!,3,0),\"\")","v":""},{"$f":"IFERROR(VLOOKUP(C120,#REF!,2,0),\"\")","v":""}]
["岗位196",{"$f":"IFERROR(VLOOKUP(A121,#REF!,2,0),\"\")","v":""},"供热、供燃气、通风与空调工程",{"$f":"IFERROR(VLOOKUP($C121,#REF!,4,0),\"\")&IFERROR(\"；\"&VLOOKUP(C121,#REF!,3,0),\"\")","v":""},{"$f":"IFERROR(VLOOKUP(C121,#REF!,3,0),\"\")","v":""},{"$f":"IFERROR(VLOOKUP(C121,#REF!,3,0),\"\")","v":""},{"$f":"IFERROR(VLOOKUP(C121,#REF!,2,0),\"\")","v":""}]
["岗位198",{"$f":"IFERROR(VLOOKUP(A122,#REF!,2,0),\"\")","v":""},"会计",{"$f":"IFERROR(VLOOKUP($C122,#REF!,4,0),\"\")&IFERROR(\"；\"&VLOOKUP(C122,#REF!,3,0),\"\")","v":""},{"$f":"IFERROR(VLOOKUP(C122,#REF!,3,0),\"\")","v":""},{"$f":"IFERROR(VLOOKUP(C122,#REF!,3,0),\"\")","v":""},{"$f":"IFERROR(VLOOKUP(C122,#REF!,2,0),\"\")","v":""}]
["岗位201",{"$f":"IFERROR(VLOOKUP(A123,#REF!,2,0),\"\")","v":""},"计算机科学技术",{"$f":"IFERROR(VLOOKUP($C123,#REF!,4,0),\"\")&IFERROR(\"；\"&VLOOKUP(C123,#REF!,3,0),\"\")","v":""},{"$f":"IFERROR(VLOOKUP(C123,#REF!,3,0),\"\")","v":""},{"$f":"IFERROR(VLOOKUP(C123,#REF!,3,0),\"\")","v":""},{"$f":"IFERROR(VLOOKUP(C123,#REF!,2,0),\"\")","v":""}]
["岗位201",{"$f":"IFERROR(VLOOKUP(A124,#REF!,2,0),\"\")","v":""},"计算机网络技术",{"$f":"IFERROR(VLOOKUP($C124,#REF!,4,0),\"\")&IFERROR(\"；\"&VLOOKUP(C124,#REF!,3,0),\"\")","v":""},{"$f":"IFERROR(VLOOKUP(C124,#REF!,3,0),\"\")","v":""},{"$f":"IFERROR(VLOOKUP(C124,#REF!,3,0),\"\")","v":""},{"$f":"IFERROR(VLOOKUP(C124,#REF!,2,0),\"\")","v":""}]
["岗位201",{"$f":"IFERROR(VLOOKUP(A125,#REF!,2,0),\"\")","v":""},"计算机多媒体技术",{"$f":"IFERROR(VLOOKUP($C125,#REF!,4,0),\"\")&IFERROR(\"；\"&VLOOKUP(C125,#REF!,3,0),\"\")","v":""},{"$f":"IFERROR(VLOOKUP(C125,#REF!,3,0),\"\")","v":""},{"$f":"IFERROR(VLOOKUP(C125,#REF!,3,0),\"\")","v":""},{"$f":"IFERROR(VLOOKUP(C125,#REF!,2,0),\"\")","v":""}]
["岗位202",{"$f":"IFERROR(VLOOKUP(A126,#REF!,2,0),\"\")","v":""},"财务管理类",{"$f":"IFERROR(VLOOKUP($C126,#REF!,4,0),\"\")&IFERROR(\"；\"&VLOOKUP(C126,#REF!,3,0),\"\")","v":""},{"$f":"IFERROR(VLOOKUP(C126,#REF!,3,0),\"\")","v":""},{"$f":"IFERROR(VLOOKUP(C126,#REF!,3,0),\"\")","v":""},{"$f":"IFERROR(VLOOKUP(C126,#REF!,2,0),\"\")","v":""}]
["岗位202",{"$f":"IFERROR(VLOOKUP(A127,#REF!,2,0),\"\")","v":""},"会计类",{"$f":"IFERROR(VLOOKUP($C127,#REF!,4,0),\"\")&IFERROR(\"；\"&VLOOKUP(C127,#REF!,3,0),\"\")","v":""},{"$f":"IFERROR(VLOOKUP(C127,#REF!,3,0),\"\")","v":""},{"$f":"IFERROR(VLOOKUP(C127,#REF!,3,0),\"\")","v":""},{"$f":"IFERROR(VLOOKUP(C127,#REF!,2,0),\"\")","v":""}]
["岗位203",{"$f":"IFERROR(VLOOKUP(A128,#REF!,2,0),\"\")","v":""},"财务管理类",{"$f":"IFERROR(VLOOKUP($C128,#REF!,4,0),\"\")&IFERROR(\"；\"&VLOOKUP(C128,#REF!,3,0),\"\")","v":""},{"$f":"IFERROR(VLOOKUP(C128,#REF!,3,0),\"\")","v":""},{"$f":"IFERROR(VLOOKUP(C128,#REF!,3,0),\"\")","v":""},{"$f":"IFERROR(VLOOKUP(C128,#REF!,2,0),\"\")","v":""}]
["岗位203",{"$f":"IFERROR(VLOOKUP(A129,#REF!,2,0),\"\")","v":""},"会计类",{"$f":"IFERROR(VLOOKUP($C129,#REF!,4,0),\"\")&IFERROR(\"；\"&VLOOKUP(C129,#REF!,3,0),\"\")","v":""},{"$f":"IFERROR(VLOOKUP(C129,#REF!,3,0),\"\")","v":""},{"$f":"IFERROR(VLOOKUP(C129,#REF!,3,0),\"\")","v":""},{"$f":"IFERROR(VLOOKUP(C129,#REF!,2,0),\"\")","v":""}]
["岗位205",{"$f":"IFERROR(VLOOKUP(A130,#REF!,2,0),\"\")","v":""},"经济管理类",{"$f":"IFERROR(VLOOKUP($C130,#REF!,4,0),\"\")&IFERROR(\"；\"&VLOOKUP(C130,#REF!,3,0),\"\")","v":""},{"$f":"IFERROR(VLOOKUP(C130,#REF!,3,0),\"\")","v":""},{"$f":"IFERROR(VLOOKUP(C130,#REF!,3,0),\"\")","v":""},{"$f":"IFERROR(VLOOKUP(C130,#REF!,2,0),\"\")","v":""}]
["岗位205",{"$f":"IFERROR(VLOOKUP(A131,#REF!,2,0),\"\")","v":""},"中文类",{"$f":"IFERROR(VLOOKUP($C131,#REF!,4,0),\"\")&IFERROR(\"；\"&VLOOKUP(C131,#REF!,3,0),\"\")","v":""},{"$f":"IFERROR(VLOOKUP(C131,#REF!,3,0),\"\")","v":""},{"$f":"IFERROR(VLOOKUP(C131,#REF!,3,0),\"\")","v":""},{"$f":"IFERROR(VLOOKUP(C131,#REF!,2,0),\"\")","v":""}]
["岗位206",{"$f":"IFERROR(VLOOKUP(A132,#REF!,2,0),\"\")","v":""},"法律类",{"$f":"IFERROR(VLOOKUP($C132,#REF!,4,0),\"\")&IFERROR(\"；\"&VLOOKUP(C132,#REF!,3,0),\"\")","v":""},{"$f":"IFERROR(VLOOKUP(C132,#REF!,3,0),\"\")","v":""},{"$f":"IFERROR(VLOOKUP(C132,#REF!,3,0),\"\")","v":""},{"$f":"IFERROR(VLOOKUP(C132,#REF!,2,0),\"\")","v":""}]
["岗位207",{"$f":"IFERROR(VLOOKUP(A133,#REF!,2,0),\"\")","v":""},"船舶与海洋工程",{"$f":"IFERROR(VLOOKUP($C133,#REF!,4,0),\"\")&IFERROR(\"；\"&VLOOKUP(C133,#REF!,3,0),\"\")","v":""},{"$f":"IFERROR(VLOOKUP(C133,#REF!,3,0),\"\")","v":""},{"$f":"IFERROR(VLOOKUP(C133,#REF!,3,0),\"\")","v":""},{"$f":"IFERROR(VLOOKUP(C133,#REF!,2,0),\"\")","v":""}]
["岗位208",{"$f":"IFERROR(VLOOKUP(A134,#REF!,2,0),\"\")","v":""},"船舶与海洋工程",{"$f":"IFERROR(VLOOKUP($C134,#REF!,4,0),\"\")&IFERROR(\"；\"&VLOOKUP(C134,#REF!,3,0),\"\")","v":""},{"$f":"IFERROR(VLOOKUP(C134,#REF!,3,0),\"\")","v":""},{"$f":"IFERROR(VLOOKUP(C134,#REF!,3,0),\"\")","v":""},{"$f":"IFERROR(VLOOKUP(C134,#REF!,2,0),\"\")","v":""}]
["岗位209",{"$f":"IFERROR(VLOOKUP(A135,#REF!,2,0),\"\")","v":""},"电子与信息工程",{"$f":"IFERROR(VLOOKUP($C135,#REF!,4,0),\"\")&IFERROR(\"；\"&VLOOKUP(C135,#REF!,3,0),\"\")","v":""},{"$f":"IFERROR(VLOOKUP(C135,#REF!,3,0),\"\")","v":""},{"$f":"IFERROR(VLOOKUP(C135,#REF!,3,0),\"\")","v":""},{"$f":"IFERROR(VLOOKUP(C135,#REF!,2,0),\"\")","v":""}]
["岗位210",{"$f":"IFERROR(VLOOKUP(A136,#REF!,2,0),\"\")","v":""},"光学工程相关专业",{"$f":"IFERROR(VLOOKUP($C136,#REF!,4,0),\"\")&IFERROR(\"；\"&VLOOKUP(C136,#REF!,3,0),\"\")","v":""},{"$f":"IFERROR(VLOOKUP(C136,#REF!,3,0),\"\")","v":""},{"$f":"IFERROR(VLOOKUP(C136,#REF!,3,0),\"\")","v":""},{"$f":"IFERROR(VLOOKUP(C136,#REF!,2,0),\"\")","v":""}]
["岗位211",{"$f":"IFERROR(VLOOKUP(A137,#REF!,2,0),\"\")","v":""},"会计",{"$f":"IFERROR(VLOOKUP($C137,#REF!,4,0),\"\")&IFERROR(\"；\"&VLOOKUP(C137,#REF!,3,0),\"\")","v":""},{"$f":"IFERROR(VLOOKUP(C137,#REF!,3,0),\"\")","v":""},{"$f":"IFERROR(VLOOKUP(C137,#REF!,3,0),\"\")","v":""},{"$f":"IFERROR(VLOOKUP(C137,#REF!,2,0),\"\")","v":""}]
[null,null,"环境科学与工程",{"$f":"IFERROR(VLOOKUP($C138,#REF!,4,0),\"\")&IFERROR(\"；\"&VLOOKUP(C138,#REF!,3,0),\"\")","v":""},{"$f":"IFERROR(VLOOKUP(C138,#REF!,3,0),\"\")","v":""},{"$f":"IFERROR(VLOOKUP(C138,#REF!,3,0),\"\")","v":""}]
[null,null,"大气科学",{"$f":"IFERROR(VLOOKUP($C139,#REF!,4,0),\"\")&IFERROR(\"；\"&VLOOKUP(C139,#REF!,3,0),\"\")","v":""},{"$f":"IFERROR(VLOOKUP(C139,#REF!,3,0),\"\")","v":""},{"$f":"IFERROR(VLOOKUP(C139,#REF!,3,0),\"\")","v":""}]
[null,null,"海洋科学",{"$f":"IFERROR(VLOOKUP($C140,#REF!,4,0),\"\")&IFERROR(\"；\"&VLOOKUP(C140,#REF!,3,0),\"\")","v":""},{"$f":"IFERROR(VLOOKUP(C140,#REF!,3,0),\"\")","v":""},{"$f":"IFERROR(VLOOKUP(C140,#REF!,3,0),\"\")","v":""}]
[null,null,"冶金工程",{"$f":"IFERROR(VLOOKUP($C141,#REF!,4,0),\"\")&IFERROR(\"；\"&VLOOKUP(C141,#REF!,3,0),\"\")","v":""},{"$f":"IFERROR(VLOOKUP(C141,#REF!,3,0),\"\")","v":""},{"$f":"IFERROR(VLOOKUP(C141,#REF!,3,0),\"\")","v":""}]
[null,null,"化学工程与技术",{"$f":"IFERROR(VLOOKUP($C142,#REF!,4,0),\"\")&IFERROR(\"；\"&VLOOKUP(C142,#REF!,3,0),\"\")","v":""},{"$f":"IFERROR(VLOOKUP(C142,#REF!,3,0),\"\")","v":""},{"$f":"IFERROR(VLOOKUP(C142,#REF!,3,0),\"\")","v":""}]
[null,null,"机械工程",{"$f":"IFERROR(VLOOKUP($C143,#REF!,4,0),\"\")&IFERROR(\"；\"&VLOOKUP(C143,#REF!,3,0),\"\")","v":""},{"$f":"IFERROR(VLOOKUP(C143,#REF!,3,0),\"\")","v":""},{"$f":"IFERROR(VLOOKUP(C143,#REF!,3,0),\"\")","v":""}]
[{"$nulls":3},{"$f":"IFERROR(VLOOKUP($C144,#REF!,4,0),\"\")&IFERROR(\"；\"&VLOOKUP(C144,#REF!,3,0),\"\")","v":""},{"$f":"IFERROR(VLOOKUP(C144,#REF!,3,0),\"\")","v":""},{"$f":"IFERROR(VLOOKUP(C144,#REF!,3,0),\"\")","v":""}]
["岗位1","博士研究生","麻醉学",{"$f":"IFERROR(VLOOKUP($C145,#REF!,4,0),\"\")&IFERROR(\"；\"&VLOOKUP(C145,#REF!,3,0),\"\")","v":""},{"$f":"IFERROR(VLOOKUP(C145,#REF!,3,0),\"\")","v":""},{"$f":"IFERROR(VLOOKUP(C145,#REF!,3,0),\"\")","v":""}]
["岗位2","博士研究生","影像医学与核医学",{"$f":"IFERROR(VLOOKUP($C146,#REF!,4,0),\"\")&IFERROR(\"；\"&VLOOKUP(C146,#REF!,3,0),\"\")","v":""},{"$f":"IFERROR(VLOOKUP(C146,#REF!,3,0),\"\")","v":""},{"$f":"IFERROR(VLOOKUP(C146,#REF!,3,0),\"\")","v":""}]
["岗位3","博士研究生","遗传学",{"$f":"IFERROR(VLOOKUP($C147,#REF!,4,0),\"\")&IFERROR(\"；\"&VLOOKUP(C147,#REF!,3,0),\"\")","v":""},{"$f":"IFERROR(VLOOKUP(C147,#REF!,3,0),\"\")","v":""},{"$f":"IFERROR(VLOOKUP(C147,#REF!,3,0),\"\")","v":""}]
["岗位4","硕士研究生","内科学",{"$f":"IFERROR(VLOOKUP($C148,#REF!,4,0),\"\")&IFERROR(\"；\"&VLOOKUP(C148,#REF!,3,0),\"\")","v":""},{"$f":"IFERROR(VLOOKUP(C148,#REF!,3,0),\"\")","v":""},{"$f":"IFERROR(VLOOKUP(C148,#REF!,3,0),\"\")","v":""}]
["岗位5","硕士研究生","神经病学",{"$f":"IFERROR(VLOOKUP($C149,#REF!,4,0),\"\")&IFERROR(\"；\"&VLOOKUP(C149,#REF!,3,0),\"\")","v":""},{"$f":"IFERROR(VLOOKUP(C149,#REF!,3,0),\"\")","v":""},{"$f":"IFERROR(VLOOKUP(C149,#REF!,3,0),\"\")","v":""}]
["岗位6","硕士研究生","外科学",{"$f":"IFERROR(VLOOKUP($C150,#REF!,4,0),\"\")&IFERROR(\"；\"&VLOOKUP(C150,#REF!,3,0),\"\")","v":""},{"$f":"IFERROR(VLOOKUP(C150,#REF!,3,0),\"\")","v":""},{"$f":"IFERROR(VLOOKUP(C150,#REF!,3,0),\"\")","v":""}]
["岗位7","硕士研究生","外科学",{"$f":"IFERROR(VLOOKUP($C151,#REF!,4,0),\"\")&IFERROR(\"；\"&VLOOKUP(C151,#REF!,3,0),\"\")","v":""},{"$f":"IFERROR(VLOOKUP(C151,#REF!,3,0),\"\")","v":""},{"$f":"IFERROR(VLOOKUP(C151,#REF!,3,0),\"\")","v":""}]
["岗位8","硕士研究生","肿瘤学",{"$f":"IFERROR(VLOOKUP($C152,#REF!,4,0),\"\")&IFERROR(\"；\"&VLOOKUP(C152,#REF!,3,0),\"\")","v":""},{"$f":"IFERROR(VLOOKUP(C152,#REF!,3,0),\"\")","v":""},{"$f":"IFERROR(VLOOKUP(C152,#REF!,3,0),\"\")","v":""}]
["岗位9","硕士研究生","妇产科学",{"$f":"IFERROR(VLOOKUP($C153,#REF!,4,0),\"\")&IFERROR(\"；\"&VLOOKUP(C153,#REF!,3,0),\"\")","v":""},{"$f":"IFERROR(VLOOKUP(C153,#REF!,3,0),\"\")","v":""},{"$f":"IFERROR(VLOOKUP(C153,#REF!,3,0),\"\")","v":""}]
["岗位10","硕士研究生","眼科学",{"$f":"IFERROR(VLOOKUP($C154,#REF!,4,0),\"\")&IFERROR(\"；\"&VLOOKUP(C154,#REF!,3,0),\"\")","v":""},{"$f":"IFERROR(VLOOKUP(C154,#REF!,3,0),\"\")","v":""},{"$f":"IFERROR(VLOOKUP(C154,#REF!,3,0),\"\")","v":""}]
["岗位11","硕士研究生","急诊医学",{"$f":"IFERROR(VLOOKUP($C155,#REF!,4,0),\"\")&IFERROR(\"；\"&VLOOKUP(C155,#REF!,3,0),\"\")","v":""},{"$f":"IFERROR(VLOOKUP(C155,#REF!,3,0),\"\")","v":""},{"$f":"IFERROR(VLOOKUP(C155,#REF!,3,0),\"\")","v":""}]
["岗位11","硕士研究生","内科学",{"$f":"IFERROR(VLOOKUP($C156,#REF!,4,0),\"\")&IFERROR(\"；\"&VLOOKUP(C156,#REF!,3,0),\"\")","v":""},{"$f":"IFERROR(VLOOKUP(C156,#REF!,3,0),\"\")","v":""},{"$f":"IFERROR(VLOOKUP(C156,#REF!,3,0),\"\")","v":""}]
["岗位12","硕士研究生","外科学",{"$f":"IFERROR(VLOOKUP($C157,#REF!,4,0),\"\")&IFERROR(\"；\"&VLOOKUP(C157,#REF!,3,0),\"\")","v":""},{"$f":"IFERROR(VLOOKUP(C157,#REF!,3,0),\"\")","v":""},{"$f":"IFERROR(VLOOKUP(C157,#REF!,3,0),\"\")","v":""}]
["岗位13","硕士研究生","老年医学",{"$f":"IFERROR(VLOOKUP($C158,#REF!,4,0),\"\")&IFERROR(\"；\"&VLOOKUP(C158,#REF!,3,0),\"\")","v":""},{"$f":"IFERROR(VLOOKUP(C158,#REF!,3,0),\"\")","v":""},{"$f":"IFERROR(VLOOKUP(C158,#REF!,3,0),\"\")","v":""}]
["岗位13","硕士研究生","全科医学",{"$f":"IFERROR(VLOOKUP($C159,#REF!,4,0),\"\")&IFERROR(\"；\"&VLOOKUP(C159,#REF!,3,0),\"\")","v":""},{"$f":"IFERROR(VLOOKUP(C159,#REF!,3,0),\"\")","v":""},{"$f":"IFERROR(VLOOKUP(C159,#REF!,3,0),\"\")","v":""}]
["岗位14","硕士研究生","麻醉学",{"$f":"IFERROR(VLOOKUP($C160,#REF!,4,0),\"\")&IFERROR(\"；\"&VLOOKUP(C160,#REF!,3,0),\"\")","v":""},{"$f":"IFERROR(VLOOKUP(C160,#REF!,3,0),\"\")","v":""},{"$f":"IFERROR(VLOOKUP(C160,#REF!,3,0),\"\")","v":""}]
["岗位15","硕士研究生","病理学与病理生理学",{"$f":"IFERROR(VLOOKUP($C161,#REF!,4,0),\"\")&IFERROR(\"；\"&VLOOKUP(C161,#REF!,3,0),\"\")","v":""},{"$f":"IFERROR(VLOOKUP(C161,#REF!,3,0),\"\")","v":""},{"$f":"IFERROR(VLOOKUP(C161,#REF!,3,0),\"\")","v":""}]
["岗位15","硕士研究生","临床病理学",{"$f":"IFERROR(VLOOKUP($C162,#REF!,4,0),\"\")&IFERROR(\"；\"&VLOOKUP(C162,#REF!,3,0),\"\")","v":""},{"$f":"IFERROR(VLOOKUP(C162,#REF!,3,0),\"\")","v":""},{"$f":"IFERROR(VLOOKUP(C162,#REF!,3,0),\"\")","v":""}]
["岗位16","硕士研究生","影像医学与核医学",{"$f":"IFERROR(VLOOKUP($C163,#REF!,4,0),\"\")&IFERROR(\"；\"&VLOOKUP(C163,#REF!,3,0),\"\")","v":""},{"$f":"IFERROR(VLOOKUP(C163,#REF!,3,0),\"\")","v":""},{"$f":"IFERROR(VLOOKUP(C163,#REF!,3,0),\"\")","v":""}]
["岗位17","硕士研究生","影像医学与核医学",{"$f":"IFERROR(VLOOKUP($C164,#REF!,4,0),\"\")&IFERROR(\"；\"&VLOOKUP(C164,#REF!,3,0),\"\")","v":""},{"$f":"IFERROR(VLOOKUP(C164,#REF!,3,0),\"\")","v":""},{"$f":"IFERROR(VLOOKUP(C164,#REF!,3,0),\"\")","v":""}]
["岗位18","硕士研究生","影像医学与核医学",{"$f":"IFERROR(VLOOKUP($C165,#REF!,4,0),\"\")&IFERROR(\"；\"&VLOOKUP(C165,#REF!,3,0),\"\")","v":""},{"$f":"IFERROR(VLOOKUP(C165,#REF!,3,0),\"\")","v":""},{"$f":"IFERROR(VLOOKUP(C165,#REF!,3,0),\"\")","v":""}]
["岗位19","硕士研究生","影像医学与核医学",{"$f":"IFERROR(VLOOKUP($C166,#REF!,4,0),\"\")&IFERROR(\"；\"&VLOOKUP(C166,#REF!,3,0),\"\")","v":""},{"$f":"IFERROR(VLOOKUP(C166,#REF!,3,0),\"\")","v":""},{"$f":"IFERROR(VLOOKUP(C166,#REF!,3,0),\"\")","v":""}]
["岗位20","硕士研究生","影像医学与核医学",{"$f":"IFERROR(VLOOKUP($C167,#REF!,4,0),\"\")&IFERROR(\"；\"&VLOOKUP(C167,#REF!,3,0),\"\")","v":""},{"$f":"IFERROR(VLOOKUP(C167,#REF!,3,0),\"\")","v":""},{"$f":"IFERROR(VLOOKUP(C167,#REF!,3,0),\"\")","v":""}]
["岗位21","硕士研究生","中医骨伤科学",{"$f":"IFERROR(VLOOKUP($C168,#REF!,4,0),\"\")&IFERROR(\"；\"&VLOOKUP(C168,#REF!,3,0),\"\")","v":""},{"$f":"IFERROR(VLOOKUP(C168,#REF!,3,0),\"\")","v":""},{"$f":"IFERROR(VLOOKUP(C168,#REF!,3,0),\"\")","v":""}]
["岗位22","硕士研究生","药剂学",{"$f":"IFERROR(VLOOKUP($C169,#REF!,4,0),\"\")&IFERROR(\"；\"&VLOOKUP(C169,#REF!,3,0),\"\")","v":""},{"$f":"IFERROR(VLOOKUP(C169,#REF!,3,0),\"\")","v":""},{"$f":"IFERROR(VLOOKUP(C169,#REF!,3,0),\"\")","v":""}]
["岗位22","硕士研究生","药理学",{"$f":"IFERROR(VLOOKUP($C170,#REF!,4,0),\"\")&IFERROR(\"；\"&VLOOKUP(C170,#REF!,3,0),\"\")","v":""},{"$f":"IFERROR(VLOOKUP(C170,#REF!,3,0),\"\")","v":""},{"$f":"IFERROR(VLOOKUP(C170,#REF!,3,0),\"\")","v":""}]
["岗位22","硕士研究生","药物化学",{"$f":"IFERROR(VLOOKUP($C171,#REF!,4,0),\"\")&IFERROR(\"；\"&VLOOKUP(C171,#REF!,3,0),\"\")","v":""},{"$f":"IFERROR(VLOOKUP(C171,#REF!,3,0),\"\")","v":""},{"$f":"IFERROR(VLOOKUP(C171,#REF!,3,0),\"\")","v":""}]
["岗位22","硕士研究生","药物分析学",{"$f":"IFERROR(VLOOKUP($C172,#REF!,4,0),\"\")&IFERROR(\"；\"&VLOOKUP(C172,#REF!,3,0),\"\")","v":""},{"$f":"IFERROR(VLOOKUP(C172,#REF!,3,0),\"\")","v":""},{"$f":"IFERROR(VLOOKUP(C172,#REF!,3,0),\"\")","v":""}]
["岗位22","硕士研究生","药学",{"$f":"IFERROR(VLOOKUP($C173,#REF!,4,0),\"\")&IFERROR(\"；\"&VLOOKUP(C173,#REF!,3,0),\"\")","v":""},{"$f":"IFERROR(VLOOKUP(C173,#REF!,3,0),\"\")","v":""},{"$f":"IFERROR(VLOOKUP(C173,#REF!,3,0),\"\")","v":""}]
["岗位22","硕士研究生","临床药学",{"$f":"IFERROR(VLOOKUP($C174,#REF!,4,0),\"\")&IFERROR(\"；\"&VLOOKUP(C174,#REF!,3,0),\"\")","v":""},{"$f":"IFERROR(VLOOKUP(C174,#REF!,3,0),\"\")","v":""},{"$f":"IFERROR(VLOOKUP(C174,#REF!,3,0),\"\")","v":""}]
["岗位22","硕士研究生","中药学",{"$f":"IFERROR(VLOOKUP($C175,#REF!,4,0),\"\")&IFERROR(\"；\"&VLOOKUP(C175,#REF!,3,0),\"\")","v":""},{"$f":"IFERROR(VLOOKUP(C175,#REF!,3,0),\"\")","v":""},{"$f":"IFERROR(VLOOKUP(C175,#REF!,3,0),\"\")","v":""}]
["岗位23","硕士研究生","临床检验诊断学",{"$f":"IFERROR(VLOOKUP($C176,#REF!,4,0),\"\")&IFERROR(\"；\"&VLOOKUP(C176,#REF!,3,0),\"\")","v":""},{"$f":"IFERROR(VLOOKUP(C176,#REF!,3,0),\"\")","v":""},{"$f":"IFERROR(VLOOKUP(C176,#REF!,3,0),\"\")","v":""}]
["岗位23","硕士研究生","免疫学",{"$f":"IFERROR(VLOOKUP($C177,#REF!,4,0),\"\")&IFERROR(\"；\"&VLOOKUP(C177,#REF!,3,0),\"\")","v":""},{"$f":"IFERROR(VLOOKUP(C177,#REF!,3,0),\"\")","v":""},{"$f":"IFERROR(VLOOKUP(C177,#REF!,3,0),\"\")","v":""}]
["岗位23","硕士研究生","生物化学与分子生物学",{"$f":"IFERROR(VLOOKUP($C178,#REF!,4,0),\"\")&IFERROR(\"；\"&VLOOKUP(C178,#REF!,3,0),\"\")","v":""},{"$f":"IFERROR(VLOOKUP(C178,#REF!,3,0),\"\")","v":""},{"$f":"IFERROR(VLOOKUP(C178,#REF!,3,0),\"\")","v":""}]
["岗位23","硕士研究生","微生物学",{"$f":"IFERROR(VLOOKUP($C179,#REF!,4,0),\"\")&IFERROR(\"；\"&VLOOKUP(C179,#REF!,3,0),\"\")","v":""},{"$f":"IFERROR(VLOOKUP(C179,#REF!,3,0),\"\")","v":""},{"$f":"IFERROR(VLOOKUP(C179,#REF!,3,0),\"\")","v":""}]
["岗位24","硕士研究生","公共卫生与预防医学",{"$f":"IFERROR(VLOOKUP($C180,#REF!,4,0),\"\")&IFERROR(\"；\"&VLOOKUP(C180,#REF!,3,0),\"\")","v":""},{"$f":"IFERROR(VLOOKUP(C180,#REF!,3,0),\"\")","v":""},{"$f":"IFERROR(VLOOKUP(C180,#REF!,3,0),\"\")","v":""}]
["岗位25","硕士研究生","营养与食品卫生学",{"$f":"IFERROR(VLOOKUP($C181,#REF!,4,0),\"\")&IFERROR(\"；\"&VLOOKUP(C181,#REF!,3,0),\"\")","v":""},{"$f":"IFERROR(VLOOKUP(C181,#REF!,3,0),\"\")","v":""},{"$f":"IFERROR(VLOOKUP(C181,#REF!,3,0),\"\")","v":""}]
["岗位26","本科","医学影像学",{"$f":"IFERROR(VLOOKUP($C182,#REF!,4,0),\"\")&IFERROR(\"；\"&VLOOKUP(C182,#REF!,3,0),\"\")","v":""},{"$f":"IFERROR(VLOOKUP(C182,#REF!,3,0),\"\")","v":""},{"$f":"IFERROR(VLOOKUP(C182,#REF!,3,0),\"\")","v":""}]
["岗位27","本科","医学影像学",{"$f":"IFERROR(VLOOKUP($C183,#REF!,4,0),\"\")&IFERROR(\"；\"&VLOOKUP(C183,#REF!,3,0),\"\")","v":""},{"$f":"IFERROR(VLOOKUP(C183,#REF!,3,0),\"\")","v":""},{"$f":"IFERROR(VLOOKUP(C183,#REF!,3,0),\"\")","v":""}]
["岗位28","本科","医学影像学",{"$f":"IFERROR(VLOOKUP($C184,#REF!,4,0),\"\")&IFERROR(\"；\"&VLOOKUP(C184,#REF!,3,0),\"\")","v":""},{"$f":"IFERROR(VLOOKUP(C184,#REF!,3,0),\"\")","v":""},{"$f":"IFERROR(VLOOKUP(C184,#REF!,3,0),\"\")","v":""}]
["岗位29","本科","医学影像学",{"$f":"IFERROR(VLOOKUP($C185,#REF!,4,0),\"\")&IFERROR(\"；\"&VLOOKUP(C185,#REF!,3,0),\"\")","v":""},{"$f":"IFERROR(VLOOKUP(C185,#REF!,3,0),\"\")","v":""},{"$f":"IFERROR(VLOOKUP(C185,#REF!,3,0),\"\")","v":""}]
["岗位30","本科","医学影像学",{"$f":"IFERROR(VLOOKUP($C186,#REF!,4,0),\"\")&IFERROR(\"；\"&VLOOKUP(C186,#REF!,3,0),\"\")","v":""},{"$f":"IFERROR(VLOOKUP(C186,#REF!,3,0),\"\")","v":""},{"$f":"IFERROR(VLOOKUP(C186,#REF!,3,0),\"\")","v":""}]
["岗位31","本科","医学检验",{"$f":"IFERROR(VLOOKUP($C187,#REF!,4,0),\"\")&IFERROR(\"；\"&VLOOKUP(C187,#REF!,3,0),\"\")","v":""},{"$f":"IFERROR(VLOOKUP(C187,#REF!,3,0),\"\")","v":""},{"$f":"IFERROR(VLOOKUP(C187,#REF!,3,0),\"\")","v":""}]
["岗位31","本科","医学检验技术",{"$f":"IFERROR(VLOOKUP($C188,#REF!,4,0),\"\")&IFERROR(\"；\"&VLOOKUP(C188,#REF!,3,0),\"\")","v":""},{"$f":"IFERROR(VLOOKUP(C188,#REF!,3,0),\"\")","v":""},{"$f":"IFERROR(VLOOKUP(C188,#REF!,3,0),\"\")","v":""}]
["岗位32","本科","医学检验",{"$f":"IFERROR(VLOOKUP($C189,#REF!,4,0),\"\")&IFERROR(\"；\"&VLOOKUP(C189,#REF!,3,0),\"\")","v":""},{"$f":"IFERROR(VLOOKUP(C189,#REF!,3,0),\"\")","v":""},{"$f":"IFERROR(VLOOKUP(C189,#REF!,3,0),\"\")","v":""}]
["岗位32","本科","医学检验技术",{"$f":"IFERROR(VLOOKUP($C190,#REF!,4,0),\"\")&IFERROR(\"；\"&VLOOKUP(C190,#REF!,3,0),\"\")","v":""},{"$f":"IFERROR(VLOOKUP(C190,#REF!,3,0),\"\")","v":""},{"$f":"IFERROR(VLOOKUP(C190,#REF!,3,0),\"\")","v":""}]
["岗位33","本科","康复治疗学",{"$f":"IFERROR(VLOOKUP($C191,#REF!,4,0),\"\")&IFERROR(\"；\"&VLOOKUP(C191,#REF!,3,0),\"\")","v":""},{"$f":"IFERROR(VLOOKUP(C191,#REF!,3,0),\"\")","v":""},{"$f":"IFERROR(VLOOKUP(C191,#REF!,3,0),\"\")","v":""}]
["岗位34","本科","药学",{"$f":"IFERROR(VLOOKUP($C192,#REF!,4,0),\"\")&IFERROR(\"；\"&VLOOKUP(C192,#REF!,3,0),\"\")","v":""},{"$f":"IFERROR(VLOOKUP(C192,#REF!,3,0),\"\")","v":""},{"$f":"IFERROR(VLOOKUP(C192,#REF!,3,0),\"\")","v":""}]
["岗位34","本科","临床药学",{"$f":"IFERROR(VLOOKUP($C193,#REF!,4,0),\"\")&IFERROR(\"；\"&VLOOKUP(C193,#REF!,3,0),\"\")","v":""},{"$f":"IFERROR(VLOOKUP(C193,#REF!,3,0),\"\")","v":""},{"$f":"IFERROR(VLOOKUP(C193,#REF!,3,0),\"\")","v":""}]
["岗位35","本科","医学影像技术",{"$f":"IFERROR(VLOOKUP($C194,#REF!,4,0),\"\")&IFERROR(\"；\"&VLOOKUP(C194,#REF!,3,0),\"\")","v":""},{"$f":"IFERROR(VLOOKUP(C194,#REF!,3,0),\"\")","v":""},{"$f":"IFERROR(VLOOKUP(C194,#REF!,3,0),\"\")","v":""}]
["岗位36","本科","医学影像技术",{"$f":"IFERROR(VLOOKUP($C195,#REF!,4,0),\"\")&IFERROR(\"；\"&VLOOKUP(C195,#REF!,3,0),\"\")","v":""},{"$f":"IFERROR(VLOOKUP(C195,#REF!,3,0),\"\")","v":""},{"$f":"IFERROR(VLOOKUP(C195,#REF!,3,0),\"\")","v":""}]
["岗位37","本科","护理学类",{"$f":"IFERROR(VLOOKUP($C196,#REF!,4,0),\"\")&IFERROR(\"；\"&VLOOKUP(C196,#REF!,3,0),\"\")","v":""},{"$f":"IFERROR(VLOOKUP(C196,#REF!,3,0),\"\")","v":""},{"$f":"IFERROR(VLOOKUP(C196,#REF!,3,0),\"\")","v":""}]
["岗位38","专科","护理学类",{"$f":"IFERROR(VLOOKUP($C197,#REF!,4,0),\"\")&IFERROR(\"；\"&VLOOKUP(C197,#REF!,3,0),\"\")","v":""},{"$f":"IFERROR(VLOOKUP(C197,#REF!,3,0),\"\")","v":""},{"$f":"IFERROR(VLOOKUP(C197,#REF!,3,0),\"\")","v":""}]
["岗位39","专科","护理学类",{"$f":"IFERROR(VLOOKUP($C198,#REF!,4,0),\"\")&IFERROR(\"；\"&VLOOKUP(C198,#REF!,3,0),\"\")","v":""},{"$f":"IFERROR(VLOOKUP(C198,#REF!,3,0),\"\")","v":""},{"$f":"IFERROR(VLOOKUP(C198,#REF!,3,0),\"\")","v":""}]